BEGIN:VCALENDAR
VERSION:2.0
PRODID:-//ChamberMaster//Event Calendar 2.0//EN
METHOD:PUBLISH
X-PUBLISHED-TTL:P3D
REFRESH-INTERVAL:P3D
CALSCALE:GREGORIAN
BEGIN:VEVENT
DTSTART;VALUE=DATE:20150220
DTEND;VALUE=DATE:20150223
TRANSP:TRANSPARENT
X-MICROSOFT-CDO-ALLDAYEVENT:TRUE
SUMMARY:Mesquite Off Road Weekend
DESCRIPTION:3rd Annual Mesquite Off-Road Weekend Rides Again February 20-22\, 2015\, with More Action\, Fan Interaction and Some of World's Best EnduroCross and Tickets are on sale and racer registration is open for the 2015 Mesquite Off-Road Weekend at the Eureka Casino Resort in Mesquite\, Nevada. The Off-Road Festival will feature several professional and amateur classes of Enduro Challenge races\, VIP fan experiences\, a Freestyle MotoCross Experience\, low ticket prices\, the ultimate Beyond Mesquite\, Nevada Once again\, Mesquite\, Nevada\, will become the place to be for Off-Road fans and racers.  Thousands of Off-Road enthusiasts have flocked to the area during the previous two Mesquite Off-Road Weekend events and the festival goes to the next level in 2015. The 3rd event will feature increased interactivity for fans with VIP experiences\, the EnduroChallenge races that are to motocross racers what the popular "mud runs" are to fitness enthusiasts\, the epic Beyond Pro championship race\, the PowerSports Plaza\, trail rides\, entertainment\, a freestyle Moto X exhibition show\, and a chance for the everyday fan to go big and pull off their own freestyle Moto X trick as part of the unique "Thrill Seeker Mega Ramp Experience."\n\nAmong the world class athletes scheduled to attend and participate during Mesquite Off-Road Weekend are Motocross legend Cowboy Kenny Bartram (the two-time\, Beyond Pro defending champion)\, EnduroCross Superstars like Cody Webb and Destry Freestyle MotoCross Racers Pro race\, and much more for every level of Off-Road racer and fan. Abbott\, plus a new crop of FMX stars including Brett Cue. Several other riders' names will be released in the coming weeks. \n\n"To me\, Mesquite Off-Road Weekend is a celebration of racing and outdoor activities\, and much more than just an opportunity for fans to watch some of the best racers in the world\," said Andre Carrier\, COO of Eureka Casino Resort. "This has always been a community event\, but for Mesquite Off-Road Weekend 2015 we are showing our appreciation to the fans by offering chances for everyone to really become a part of the action. We have lowered ticket prices as a thank you and the VIP racer meet and greets will be open to more fans. This is truly a unique\, one-of-a-kind event with our style of racing plus it offers amazing opportunities to watch and interact with the world-class athletes we have coming to Mesquite in February."\n\nRacing classes are available from youth to professional on the one-of-a-kind course located behind the award-winning Eureka Casino Resort and event organizers believe athletes from all racing disciplines will enjoy the unique Enduro Challenge track that has been created. Racer registration is open at www.MesquiteOffRoad.com/races.\n\n"EnduroCross is to off-road racers what the Tough Mudder is to those who participate in 5ks and 10ks\," said Bryan Green\, Race Director. "EnduroCross is the next level and we want everyday racers to feel comfortable giving the sport a try and we will be offering clinics and training sessions to give the Regular Joe's a chance to experience this adrenalized sport. Each of our events will feature amateur riders in a kind of pro-am format so it will be exciting for everyone involved."\n\nAbout Mesquite Off-Road Weekend\n\nThe 3rd annual Mesquite Off-Road Weekend\, sponsored by the Mesquite Resort Association\, is February 20-22\, 2015\, at the Eureka Casino Resort in Mesquite\, Nevada. The Off-Road festival features events for all ages and all levels of racers and non-racers including:\n\nEnduro Challenge races   Races for amateur and professional classes young and old that blend endurocross\, motorcross and desert racing.\n\nBeyond Pro Championship Race   The ultimate race on Saturday night features the only race format in the world with elements of EnduroCross and Freestyle MotoX.\n\nPowerSports Plaza   Major exhibit area features food\, drink and vendors.\n\nExhibition Show   Open to all ticket holders and the show will feature a major freestyle moto cross demo and other surprises.\n\nVIP Racer Meet and Greet   Fans can get autographs and photos with some of the world's top racers.\n\nThrill Seeker Mega Ramp   Anyone who has fantasized about pulling off a back flip or other big Freestyle MotoCross trick can live out their dream in a safe setting.\n\nMesquite MX   For the first time\, a motocross event will be held during Mesquite Off-Road Weekend and held at the Mesquite MX track.\n\nSeasons Ultra Lounge   Fans and racers can end the day with the best party in Mesquite at Seasons Ultra Lounge at the Eureka Casino Resort.\n\n2015 Mesquite Off-Road Weekend Schedule of Events (official times TBD)\n\nFebruary 20th   Friday\n\nRacer Registration and Ticket Sales\n\nRacer meeting\n\nRace Practice\n\nExhibition Show at Mesquite Off-Road Weekend track\n\nMini-MX races\n\nPowersports Plaza\n\nVIP Meet and Greet Party\n\nEntertainment in Seasons Ultra Lounge at Eureka Casino Resort\n\nFebruary 21st   Saturday\n\nRacer Registration\n\nTicket Sales\n\nRacer meeting\n\nPowersports Plaza\n\nEnduro Challenge Races\n\nRacer awards\n\nBeyond Pro Race\n\nEntertainment in Seasons Ultra Lounge\n\nFebruary 22nd   Sunday\n\nEvent held at Mesquite MX\n\nBreakfast at Polaris World followed by a trail ride
X-ALT-DESC;FMTTYPE=text/html:<div style="color: rgb(68\, 68\, 68)\; font-size: 13px\; line-height: 16px\;">\n<p style="border: 0px rgb(229\, 229\, 229)\; outline: 0px\; vertical-align: baseline\; margin: 0px 0px 20px\; padding: 0px\; color: rgb(128\, 128\, 128)\; font-family: 'Open Sans'\; line-height: 22.1000003814697px\; background-image: initial\; background-attachment: initial\; background-size: initial\; background-origin: initial\; background-clip: initial\; background-position: initial\; background-repeat: initial\;"><span style="color:#000000\;">3rd Annual Mesquite Off-Road Weekend Rides Again February 20-22\, 2015\, with More Action\, Fan Interaction and Some of World&rsquo\;s Best EnduroCross and Tickets are on sale and racer registration is open for the 2015 Mesquite Off-Road&nbsp\;Weekend at the Eureka Casino Resort in Mesquite\, Nevada. The Off-Road Festival will feature several professional and amateur classes of Enduro Challenge races\, VIP fan&nbsp\;experiences\, a Freestyle MotoCross Experience\, low ticket prices\, the ultimate Beyond Mesquite\, Nevada&mdash\;Once again\, Mesquite\, Nevada\, will become the place to be for Off-Road fans and racers. &nbsp\;Thousands of Off-Road enthusiasts have flocked to the area during the previous two Mesquite Off-Road Weekend events and the festival goes to the next level in 2015. The 3rd event will feature increased interactivity for fans with VIP experiences\, the EnduroChallenge races that are to motocross racers what the popular &ldquo\;mud runs&rdquo\; are to fitness enthusiasts\, the epic Beyond Pro championship race\, the PowerSports Plaza\, trail rides\, entertainment\, a freestyle Moto X exhibition show\, and a chance for the everyday fan to go big and pull off their own freestyle Moto X trick as part of the unique &ldquo\;Thrill Seeker Mega Ramp Experience.&rdquo\;</span></p>\n\n<p style="border: 0px rgb(229\, 229\, 229)\; outline: 0px\; vertical-align: baseline\; margin: 0px 0px 20px\; padding: 0px\; color: rgb(128\, 128\, 128)\; font-family: 'Open Sans'\; line-height: 22.1000003814697px\; background-image: initial\; background-attachment: initial\; background-size: initial\; background-origin: initial\; background-clip: initial\; background-position: initial\; background-repeat: initial\;"><span style="color:#000000\;">Among the world class athletes scheduled to attend and participate during Mesquite Off-Road Weekend are Motocross legend Cowboy Kenny Bartram (the two-time\, Beyond Pro defending champion)\, EnduroCross Superstars like Cody Webb and Destry Freestyle MotoCross Racers Pro race\, and much more for every level of Off-Road racer and fan. Abbott\, plus a new crop of FMX stars including Brett Cue. Several other riders&rsquo\; names will be released in the coming weeks.&nbsp\;<br style="border-color: rgb(229\, 229\, 229)\;" />\n&ldquo\;To me\, Mesquite Off-Road Weekend is a celebration of racing and outdoor activities\, and much more than just an opportunity for fans to watch some of the best racers in the world\,&rdquo\; said Andre Carrier\, COO of Eureka Casino Resort. &ldquo\;This has always been a community event\, but for Mesquite Off-Road Weekend 2015 we are showing our appreciation to the fans by offering chances for everyone to really become a part of the action. We have lowered ticket prices as a thank you and the VIP racer meet and greets will be open to more fans. This is truly a unique\, one-of-a-kind event with our style of racing plus it offers amazing opportunities to watch and interact with the world-class athletes we have coming to Mesquite in February.&rdquo\;</span></p>\n\n<p style="border: 0px rgb(229\, 229\, 229)\; outline: 0px\; vertical-align: baseline\; margin: 0px 0px 20px\; padding: 0px\; color: rgb(128\, 128\, 128)\; font-family: 'Open Sans'\; line-height: 22.1000003814697px\; background-image: initial\; background-attachment: initial\; background-size: initial\; background-origin: initial\; background-clip: initial\; background-position: initial\; background-repeat: initial\;"><span style="color:#000000\;">Racing classes are available from youth to professional on the one-of-a-kind course located behind the award-winning Eureka Casino Resort and event organizers believe athletes from all racing disciplines will enjoy the unique Enduro Challenge track that has been created. Racer registration is open at www.MesquiteOffRoad.com/races.</span></p>\n\n<p style="border: 0px rgb(229\, 229\, 229)\; outline: 0px\; vertical-align: baseline\; margin: 0px 0px 20px\; padding: 0px\; color: rgb(128\, 128\, 128)\; font-family: 'Open Sans'\; line-height: 22.1000003814697px\; background-image: initial\; background-attachment: initial\; background-size: initial\; background-origin: initial\; background-clip: initial\; background-position: initial\; background-repeat: initial\;"><span style="color:#000000\;">&ldquo\;EnduroCross is to off-road racers what the Tough Mudder is to those who participate in 5ks and 10ks\,&rdquo\; said Bryan Green\, Race Director. &ldquo\;EnduroCross is the next level and we want everyday racers to feel comfortable giving the sport a try and we will be offering clinics and training sessions to give the Regular Joe&rsquo\;s a chance to experience this adrenalized sport. Each of our events will feature amateur riders in a kind of pro-am format so it will be exciting for everyone involved.&rdquo\;</span></p>\n\n<p style="border: 0px rgb(229\, 229\, 229)\; outline: 0px\; vertical-align: baseline\; margin: 0px 0px 20px\; padding: 0px\; color: rgb(128\, 128\, 128)\; font-family: 'Open Sans'\; line-height: 22.1000003814697px\; background-image: initial\; background-attachment: initial\; background-size: initial\; background-origin: initial\; background-clip: initial\; background-position: initial\; background-repeat: initial\;"><span style="color:#000000\;">About Mesquite Off-Road Weekend</span></p>\n\n<p style="border: 0px rgb(229\, 229\, 229)\; outline: 0px\; vertical-align: baseline\; margin: 0px 0px 20px\; padding: 0px\; color: rgb(128\, 128\, 128)\; font-family: 'Open Sans'\; line-height: 22.1000003814697px\; background-image: initial\; background-attachment: initial\; background-size: initial\; background-origin: initial\; background-clip: initial\; background-position: initial\; background-repeat: initial\;"><span style="color:#000000\;">The 3rd annual Mesquite Off-Road Weekend\, sponsored by the Mesquite Resort Association\, is February 20-22\, 2015\, at the Eureka Casino Resort in Mesquite\, Nevada. The Off-Road festival features events for all ages and all levels of racers and non-racers including:</span></p>\n\n<p style="border: 0px rgb(229\, 229\, 229)\; outline: 0px\; vertical-align: baseline\; margin: 0px 0px 20px\; padding: 0px\; color: rgb(128\, 128\, 128)\; font-family: 'Open Sans'\; line-height: 22.1000003814697px\; background-image: initial\; background-attachment: initial\; background-size: initial\; background-origin: initial\; background-clip: initial\; background-position: initial\; background-repeat: initial\;"><span style="color:#000000\;">Enduro Challenge races &ndash\; Races for amateur and professional classes young and old that blend endurocross\, motorcross and desert racing.</span></p>\n\n<p style="border: 0px rgb(229\, 229\, 229)\; outline: 0px\; vertical-align: baseline\; margin: 0px 0px 20px\; padding: 0px\; color: rgb(128\, 128\, 128)\; font-family: 'Open Sans'\; line-height: 22.1000003814697px\; background-image: initial\; background-attachment: initial\; background-size: initial\; background-origin: initial\; background-clip: initial\; background-position: initial\; background-repeat: initial\;"><span style="color:#000000\;">Beyond Pro Championship Race &ndash\; The ultimate race on Saturday night features the only race format in the world with elements of EnduroCross and Freestyle MotoX.</span></p>\n\n<p style="border: 0px rgb(229\, 229\, 229)\; outline: 0px\; vertical-align: baseline\; margin: 0px 0px 20px\; padding: 0px\; color: rgb(128\, 128\, 128)\; font-family: 'Open Sans'\; line-height: 22.1000003814697px\; background-image: initial\; background-attachment: initial\; background-size: initial\; background-origin: initial\; background-clip: initial\; background-position: initial\; background-repeat: initial\;"><span style="color:#000000\;">PowerSports Plaza &ndash\; Major exhibit area features food\, drink and vendors.</span></p>\n\n<p style="border: 0px rgb(229\, 229\, 229)\; outline: 0px\; vertical-align: baseline\; margin: 0px 0px 20px\; padding: 0px\; color: rgb(128\, 128\, 128)\; font-family: 'Open Sans'\; line-height: 22.1000003814697px\; background-image: initial\; background-attachment: initial\; background-size: initial\; background-origin: initial\; background-clip: initial\; background-position: initial\; background-repeat: initial\;"><span style="color:#000000\;">Exhibition Show &ndash\; Open to all ticket holders and the show will feature a major freestyle moto cross demo and other surprises.</span></p>\n\n<p style="border: 0px rgb(229\, 229\, 229)\; outline: 0px\; vertical-align: baseline\; margin: 0px 0px 20px\; padding: 0px\; color: rgb(128\, 128\, 128)\; font-family: 'Open Sans'\; line-height: 22.1000003814697px\; background-image: initial\; background-attachment: initial\; background-size: initial\; background-origin: initial\; background-clip: initial\; background-position: initial\; background-repeat: initial\;"><span style="color:#000000\;">VIP Racer Meet and Greet &ndash\; Fans can get autographs and photos with some of the world&rsquo\;s top racers.</span></p>\n\n<p style="border: 0px rgb(229\, 229\, 229)\; outline: 0px\; vertical-align: baseline\; margin: 0px 0px 20px\; padding: 0px\; color: rgb(128\, 128\, 128)\; font-family: 'Open Sans'\; line-height: 22.1000003814697px\; background-image: initial\; background-attachment: initial\; background-size: initial\; background-origin: initial\; background-clip: initial\; background-position: initial\; background-repeat: initial\;"><span style="color:#000000\;">Thrill Seeker Mega Ramp &ndash\; Anyone who has fantasized about pulling off a back flip or other big Freestyle MotoCross trick can live out their dream in a safe setting.</span></p>\n\n<p style="border: 0px rgb(229\, 229\, 229)\; outline: 0px\; vertical-align: baseline\; margin: 0px 0px 20px\; padding: 0px\; color: rgb(128\, 128\, 128)\; font-family: 'Open Sans'\; line-height: 22.1000003814697px\; background-image: initial\; background-attachment: initial\; background-size: initial\; background-origin: initial\; background-clip: initial\; background-position: initial\; background-repeat: initial\;"><span style="color:#000000\;">Mesquite MX &ndash\; For the first time\, a motocross event will be held during Mesquite Off-Road Weekend and held at the Mesquite MX track.</span></p>\n\n<p style="border: 0px rgb(229\, 229\, 229)\; outline: 0px\; vertical-align: baseline\; margin: 0px 0px 20px\; padding: 0px\; color: rgb(128\, 128\, 128)\; font-family: 'Open Sans'\; line-height: 22.1000003814697px\; background-image: initial\; background-attachment: initial\; background-size: initial\; background-origin: initial\; background-clip: initial\; background-position: initial\; background-repeat: initial\;"><span style="color:#000000\;">Seasons Ultra Lounge &ndash\; Fans and racers can end the day with the best party in&nbsp\;Mesquite at Seasons Ultra Lounge at the Eureka Casino Resort.</span></p>\n\n<p style="border: 0px rgb(229\, 229\, 229)\; outline: 0px\; vertical-align: baseline\; margin: 0px 0px 20px\; padding: 0px\; color: rgb(128\, 128\, 128)\; font-family: 'Open Sans'\; line-height: 22.1000003814697px\; background-image: initial\; background-attachment: initial\; background-size: initial\; background-origin: initial\; background-clip: initial\; background-position: initial\; background-repeat: initial\;"><span style="color:#000000\;">2015 Mesquite Off-Road Weekend Schedule of Events (official times TBD)</span></p>\n\n<p style="border: 0px rgb(229\, 229\, 229)\; outline: 0px\; vertical-align: baseline\; margin: 0px 0px 20px\; padding: 0px\; color: rgb(128\, 128\, 128)\; font-family: 'Open Sans'\; line-height: 22.1000003814697px\; background-image: initial\; background-attachment: initial\; background-size: initial\; background-origin: initial\; background-clip: initial\; background-position: initial\; background-repeat: initial\;"><span style="color:#000000\;">February 20th &ndash\; Friday</span></p>\n\n<p style="border: 0px rgb(229\, 229\, 229)\; outline: 0px\; vertical-align: baseline\; margin: 0px 0px 20px\; padding: 0px\; color: rgb(128\, 128\, 128)\; font-family: 'Open Sans'\; line-height: 22.1000003814697px\; background-image: initial\; background-attachment: initial\; background-size: initial\; background-origin: initial\; background-clip: initial\; background-position: initial\; background-repeat: initial\;"><span style="color:#000000\;">Racer Registration and Ticket Sales</span></p>\n\n<p style="border: 0px rgb(229\, 229\, 229)\; outline: 0px\; vertical-align: baseline\; margin: 0px 0px 20px\; padding: 0px\; color: rgb(128\, 128\, 128)\; font-family: 'Open Sans'\; line-height: 22.1000003814697px\; background-image: initial\; background-attachment: initial\; background-size: initial\; background-origin: initial\; background-clip: initial\; background-position: initial\; background-repeat: initial\;"><span style="color:#000000\;">Racer meeting</span></p>\n\n<p style="border: 0px rgb(229\, 229\, 229)\; outline: 0px\; vertical-align: baseline\; margin: 0px 0px 20px\; padding: 0px\; color: rgb(128\, 128\, 128)\; font-family: 'Open Sans'\; line-height: 22.1000003814697px\; background-image: initial\; background-attachment: initial\; background-size: initial\; background-origin: initial\; background-clip: initial\; background-position: initial\; background-repeat: initial\;"><span style="color:#000000\;">Race Practice</span></p>\n\n<p style="border: 0px rgb(229\, 229\, 229)\; outline: 0px\; vertical-align: baseline\; margin: 0px 0px 20px\; padding: 0px\; color: rgb(128\, 128\, 128)\; font-family: 'Open Sans'\; line-height: 22.1000003814697px\; background-image: initial\; background-attachment: initial\; background-size: initial\; background-origin: initial\; background-clip: initial\; background-position: initial\; background-repeat: initial\;"><span style="color:#000000\;">Exhibition Show at Mesquite Off-Road Weekend track</span></p>\n\n<p style="border: 0px rgb(229\, 229\, 229)\; outline: 0px\; vertical-align: baseline\; margin: 0px 0px 20px\; padding: 0px\; color: rgb(128\, 128\, 128)\; font-family: 'Open Sans'\; line-height: 22.1000003814697px\; background-image: initial\; background-attachment: initial\; background-size: initial\; background-origin: initial\; background-clip: initial\; background-position: initial\; background-repeat: initial\;"><span style="color:#000000\;">Mini-MX races</span></p>\n\n<p style="border: 0px rgb(229\, 229\, 229)\; outline: 0px\; vertical-align: baseline\; margin: 0px 0px 20px\; padding: 0px\; color: rgb(128\, 128\, 128)\; font-family: 'Open Sans'\; line-height: 22.1000003814697px\; background-image: initial\; background-attachment: initial\; background-size: initial\; background-origin: initial\; background-clip: initial\; background-position: initial\; background-repeat: initial\;"><span style="color:#000000\;">Powersports Plaza</span></p>\n\n<p style="border: 0px rgb(229\, 229\, 229)\; outline: 0px\; vertical-align: baseline\; margin: 0px 0px 20px\; padding: 0px\; color: rgb(128\, 128\, 128)\; font-family: 'Open Sans'\; line-height: 22.1000003814697px\; background-image: initial\; background-attachment: initial\; background-size: initial\; background-origin: initial\; background-clip: initial\; background-position: initial\; background-repeat: initial\;"><span style="color:#000000\;">VIP Meet and Greet Party</span></p>\n\n<p style="border: 0px rgb(229\, 229\, 229)\; outline: 0px\; vertical-align: baseline\; margin: 0px 0px 20px\; padding: 0px\; color: rgb(128\, 128\, 128)\; font-family: 'Open Sans'\; line-height: 22.1000003814697px\; background-image: initial\; background-attachment: initial\; background-size: initial\; background-origin: initial\; background-clip: initial\; background-position: initial\; background-repeat: initial\;"><span style="color:#000000\;">Entertainment in Seasons Ultra Lounge at Eureka Casino Resort</span></p>\n\n<p style="border: 0px rgb(229\, 229\, 229)\; outline: 0px\; vertical-align: baseline\; margin: 0px 0px 20px\; padding: 0px\; color: rgb(128\, 128\, 128)\; font-family: 'Open Sans'\; line-height: 22.1000003814697px\; background-image: initial\; background-attachment: initial\; background-size: initial\; background-origin: initial\; background-clip: initial\; background-position: initial\; background-repeat: initial\;"><span style="color:#000000\;">February 21st &ndash\; Saturday</span></p>\n\n<p style="border: 0px rgb(229\, 229\, 229)\; outline: 0px\; vertical-align: baseline\; margin: 0px 0px 20px\; padding: 0px\; color: rgb(128\, 128\, 128)\; font-family: 'Open Sans'\; line-height: 22.1000003814697px\; background-image: initial\; background-attachment: initial\; background-size: initial\; background-origin: initial\; background-clip: initial\; background-position: initial\; background-repeat: initial\;"><span style="color:#000000\;">Racer Registration</span></p>\n\n<p style="border: 0px rgb(229\, 229\, 229)\; outline: 0px\; vertical-align: baseline\; margin: 0px 0px 20px\; padding: 0px\; color: rgb(128\, 128\, 128)\; font-family: 'Open Sans'\; line-height: 22.1000003814697px\; background-image: initial\; background-attachment: initial\; background-size: initial\; background-origin: initial\; background-clip: initial\; background-position: initial\; background-repeat: initial\;"><span style="color:#000000\;">Ticket Sales</span></p>\n\n<p style="border: 0px rgb(229\, 229\, 229)\; outline: 0px\; vertical-align: baseline\; margin: 0px 0px 20px\; padding: 0px\; color: rgb(128\, 128\, 128)\; font-family: 'Open Sans'\; line-height: 22.1000003814697px\; background-image: initial\; background-attachment: initial\; background-size: initial\; background-origin: initial\; background-clip: initial\; background-position: initial\; background-repeat: initial\;"><span style="color:#000000\;">Racer meeting</span></p>\n\n<p style="border: 0px rgb(229\, 229\, 229)\; outline: 0px\; vertical-align: baseline\; margin: 0px 0px 20px\; padding: 0px\; color: rgb(128\, 128\, 128)\; font-family: 'Open Sans'\; line-height: 22.1000003814697px\; background-image: initial\; background-attachment: initial\; background-size: initial\; background-origin: initial\; background-clip: initial\; background-position: initial\; background-repeat: initial\;"><span style="color:#000000\;">Powersports Plaza</span></p>\n\n<p style="border: 0px rgb(229\, 229\, 229)\; outline: 0px\; vertical-align: baseline\; margin: 0px 0px 20px\; padding: 0px\; color: rgb(128\, 128\, 128)\; font-family: 'Open Sans'\; line-height: 22.1000003814697px\; background-image: initial\; background-attachment: initial\; background-size: initial\; background-origin: initial\; background-clip: initial\; background-position: initial\; background-repeat: initial\;"><span style="color:#000000\;">Enduro Challenge Races</span></p>\n\n<p style="border: 0px rgb(229\, 229\, 229)\; outline: 0px\; vertical-align: baseline\; margin: 0px 0px 20px\; padding: 0px\; color: rgb(128\, 128\, 128)\; font-family: 'Open Sans'\; line-height: 22.1000003814697px\; background-image: initial\; background-attachment: initial\; background-size: initial\; background-origin: initial\; background-clip: initial\; background-position: initial\; background-repeat: initial\;"><span style="color:#000000\;">Racer awards</span></p>\n\n<p style="border: 0px rgb(229\, 229\, 229)\; outline: 0px\; vertical-align: baseline\; margin: 0px 0px 20px\; padding: 0px\; color: rgb(128\, 128\, 128)\; font-family: 'Open Sans'\; line-height: 22.1000003814697px\; background-image: initial\; background-attachment: initial\; background-size: initial\; background-origin: initial\; background-clip: initial\; background-position: initial\; background-repeat: initial\;"><span style="color:#000000\;">Beyond Pro Race</span></p>\n\n<p style="border: 0px rgb(229\, 229\, 229)\; outline: 0px\; vertical-align: baseline\; margin: 0px 0px 20px\; padding: 0px\; color: rgb(128\, 128\, 128)\; font-family: 'Open Sans'\; line-height: 22.1000003814697px\; background-image: initial\; background-attachment: initial\; background-size: initial\; background-origin: initial\; background-clip: initial\; background-position: initial\; background-repeat: initial\;"><span style="color:#000000\;">Entertainment in Seasons Ultra Lounge</span></p>\n\n<p style="border: 0px rgb(229\, 229\, 229)\; outline: 0px\; vertical-align: baseline\; margin: 0px 0px 20px\; padding: 0px\; color: rgb(128\, 128\, 128)\; font-family: 'Open Sans'\; line-height: 22.1000003814697px\; background-image: initial\; background-attachment: initial\; background-size: initial\; background-origin: initial\; background-clip: initial\; background-position: initial\; background-repeat: initial\;"><span style="color:#000000\;">February 22nd &ndash\; Sunday</span></p>\n\n<p style="border: 0px rgb(229\, 229\, 229)\; outline: 0px\; vertical-align: baseline\; margin: 0px 0px 20px\; padding: 0px\; color: rgb(128\, 128\, 128)\; font-family: 'Open Sans'\; line-height: 22.1000003814697px\; background-image: initial\; background-attachment: initial\; background-size: initial\; background-origin: initial\; background-clip: initial\; background-position: initial\; background-repeat: initial\;"><span style="color:#000000\;">Event held at Mesquite MX</span></p>\n\n<p style="border: 0px rgb(229\, 229\, 229)\; outline: 0px\; vertical-align: baseline\; margin: 0px 0px 20px\; padding: 0px\; color: rgb(128\, 128\, 128)\; font-family: 'Open Sans'\; line-height: 22.1000003814697px\; background-image: initial\; background-attachment: initial\; background-size: initial\; background-origin: initial\; background-clip: initial\; background-position: initial\; background-repeat: initial\;"><span style="color:#000000\;">Breakfast at Polaris World followed by a trail ride</span></p>\n</div>\n
LOCATION:275 S. Mesa Blvd. Mesquite\, NV
UID:e.1117.6303
SEQUENCE:3
DTSTAMP:20260420T215034Z
URL:https://business.stgeorgechamber.com/events/details/mesquite-off-road-weekend-02-20-2015-6303
END:VEVENT

END:VCALENDAR
