BEGIN:VCALENDAR
VERSION:2.0
PRODID:-//ChamberMaster//Event Calendar 2.0//EN
METHOD:PUBLISH
X-PUBLISHED-TTL:P3D
REFRESH-INTERVAL:P3D
CALSCALE:GREGORIAN
BEGIN:VEVENT
DTSTART;VALUE=DATE:20140117
DTEND;VALUE=DATE:20140120
TRANSP:TRANSPARENT
X-MICROSOFT-CDO-ALLDAYEVENT:TRUE
SUMMARY:Mesquite Motor Mania 2014
DESCRIPTION:Come out for the fun and festivities see all the beautiful vehicles\, vote on your favorite\, watch the Slow Drags and Burn Out Competition  Fri\, Jan 17 8p-1:45a Virgin River ?River Lounge? ?High Rise? is a visually exciting variety band performing classic tunes and current dance music Free admission\, 21+ only Fri\, Jan 17 8p-1:45a CasaBlanca ?Skydome Lounge? ?Lil? Elmo and the Cosmos? - THEY?RE BACK! That wild and crazy party band has resurfaced playing all your favorite hits from the 50's through the 70's. Free admission\, 21+ only Sat\, Jan 18 11a-3p Virgin River Parking Lot ?Pompadour? - The 50's. Poodle skits and duck tails make this group a nostalgic hit for days of doo-wop and classic rock?n'roll. Free admission\, all ages Sat\, Jan 18 8p-1:45a Virgin River ?River Lounge? ?High Rise? is a visually exciting variety band performing classic tunes and current dance music Free admission\, 21+ only Sat\, Jan 18 8p-1:45a CasaBlanca ?Skydome Lounge? ?Lil? Elmo and the Cosmos?- THEY?RE BACK! That wild and crazy party band has resurfaced playing all your favorite hits from the 50's through the 70's. Free admission\, 21+ only Sat\, Jan 18 8:30p-10:30p CasaBlanca Showroom ?Phoenix? Vegas? top 80?s Classic Rock Band! Free admission\, 21+ only Sun\, Jan 19 7p-12:45a Virgin River ?River Lounge? ?High Rise? is a visually exciting variety band performing classic tunes and current dance music
X-ALT-DESC;FMTTYPE=text/html:Come out for the fun and festivities see all the beautiful vehicles\, vote on your favorite\, watch the Slow Drags and Burn Out Competition &nbsp\;Fri\, Jan 17 8p-1:45a Virgin River ?River Lounge? ?High Rise? is a visually exciting variety band performing classic tunes and current dance music Free admission\, 21+ only Fri\, Jan 17 8p-1:45a CasaBlanca ?Skydome Lounge? ?Lil? Elmo and the Cosmos? - THEY?RE BACK! That wild and crazy party band has resurfaced playing all your favorite hits from the 50&#39\;s through the 70&#39\;s. Free admission\, 21+ only Sat\, Jan 18 11a-3p Virgin River Parking Lot ?Pompadour? - The 50&#39\;s. Poodle skits and duck tails make this group a nostalgic hit for days of doo-wop and classic rock?n&#39\;roll. Free admission\, all ages Sat\, Jan 18 8p-1:45a Virgin River ?River Lounge? ?High Rise? is a visually exciting variety band performing classic tunes and current dance music Free admission\, 21+ only Sat\, Jan 18 8p-1:45a CasaBlanca ?Skydome Lounge? ?Lil? Elmo and the Cosmos?- THEY?RE BACK! That wild and crazy party band has resurfaced playing all your favorite hits from the 50&#39\;s through the 70&#39\;s. Free admission\, 21+ only Sat\, Jan 18 8:30p-10:30p CasaBlanca Showroom ?Phoenix? Vegas? top 80?s Classic Rock Band! Free admission\, 21+ only Sun\, Jan 19 7p-12:45a Virgin River ?River Lounge? ?High Rise? is a visually exciting variety band performing classic tunes and current dance music 
LOCATION:All Participating Hotel and Casinos in Mesquite NV
UID:e.1117.5023
SEQUENCE:3
DTSTAMP:20260421T165927Z
URL:https://business.stgeorgechamber.com/events/details/mesquite-motor-mania-2014-01-17-2014-5023
END:VEVENT

END:VCALENDAR
