BEGIN:VCALENDAR
VERSION:2.0
PRODID:-//ChamberMaster//Event Calendar 2.0//EN
METHOD:PUBLISH
X-PUBLISHED-TTL:P3D
REFRESH-INTERVAL:P3D
CALSCALE:GREGORIAN
BEGIN:VEVENT
DTSTART:20211103T173000Z
DTEND:20211103T190000Z
X-MICROSOFT-CDO-ALLDAYEVENT:FALSE
SUMMARY:Meet the New Members Luncheon
DESCRIPTION:The St. George Area Chamber of Commerce is growing rapidly and we have a dedicated luncheon every month to highlight our new members.\n\n \n\nThis luncheon\, held on the first Wednesday of each month\, will give members that joined in previous months an opportunity to introduce themselves to existing members. New members will be given two minutes each to do a quick pitch of their business\, creating networking and marketing opportunities.\n\n \nWe are excited to spotlight and support those joining the Chamber!
X-ALT-DESC;FMTTYPE=text/html:<div style="background-color: rgb(240\, 240\, 240)\; color: rgb(64\, 63\, 66)\; font-family: Lato\, sans-serif\; font-size: 12px\; white-space: pre-wrap\;"><span style="font-size:14px\;"><span style="font-family: arial\;">The St. George Area Chamber of Commerce is growing rapidly and we have a dedicated luncheon every month to highlight our new members.</span></span><br />\n&nbsp\;</div>\n\n<div style="background-color: rgb(240\, 240\, 240)\; color: rgb(64\, 63\, 66)\; font-family: Lato\, sans-serif\; font-size: 12px\; white-space: pre-wrap\;"><span style="font-size:14px\;"><span style="font-family: arial\;">This luncheon\, held on the first Wednesday of each month\, will&nbsp\;give members that joined in previous months an opportunity to introduce themselves to existing members. New members will be given two minutes each to do a quick pitch of their business\, creating networking and marketing opportunities.</span></span></div>\n\n<div style="background-color: rgb(240\, 240\, 240)\; color: rgb(64\, 63\, 66)\; font-family: Lato\, sans-serif\; font-size: 12px\; white-space: pre-wrap\;">&nbsp\;</div>\n<span style="font-size:14px\;"><span style="font-family: arial\;">We are excited to spotlight and support those joining the Chamber!</span></span>
LOCATION:Hilton Garden Inn
UID:e.1117.16197
SEQUENCE:3
DTSTAMP:20260421T142845Z
URL:https://business.stgeorgechamber.com/events/details/meet-the-new-members-luncheon-11-03-2021-16197
END:VEVENT

END:VCALENDAR
