BEGIN:VCALENDAR
VERSION:2.0
PRODID:-//ChamberMaster//Event Calendar 2.0//EN
METHOD:PUBLISH
X-PUBLISHED-TTL:P3D
REFRESH-INTERVAL:P3D
CALSCALE:GREGORIAN
BEGIN:VEVENT
DTSTART:20210824T230000Z
DTEND:20210825T010000Z
X-MICROSOFT-CDO-ALLDAYEVENT:FALSE
SUMMARY:Meet the Mentors
DESCRIPTION:The Chamber Mentoring program is back. After a year-long hiatus\, the Women's Initiative is happy to announce our Meet the Mentors round table on August 24th from 5-7 PM at the Chamber building conference room.\n\nWe have mentors available from every industry\, so please send anyone you think could benefit from a no-cost\, eight week mentoring program. The fall mentoring session runs from September through October. \n\nIf you would like more information\, please email Kelli Charlton\, Committee Chair\, at kelli@stapleypharmacy.com.
X-ALT-DESC;FMTTYPE=text/html:<span style="font-family:tahoma\,sans-serif\;"><span style="font-size:14pt\;">The Chamber Mentoring program is back. After a year-long hiatus\, the Women&rsquo\;s Initiative is happy to announce our Meet the Mentors round table on August 24<sup>th</sup>&nbsp\;from 5-7 PM at the Chamber building conference room.</span></span><br />\n<span style="font-family:tahoma\,sans-serif\;"><span style="font-size:14pt\;">We have mentors available from every industry\, so please send anyone you think could benefit from a no-cost\, eight week mentoring program. The fall mentoring session runs from September through October.&nbsp\;</span></span><br />\n<span style="font-family:tahoma\,sans-serif\;"><span style="font-size:14pt\;">If you would like more information\, please email Kelli Charlton\, Committee Chair\, at&nbsp\;<a href="mailto:kelli@stapleypharmacy.com" style="color:rgb(17\, 85\, 204)\;" target="_blank">kelli@stapleypharmacy.com</a>.</span></span>
LOCATION:St George Area Chamber of Commerce 136 N 100 E\, St George\, Ut 84770
UID:e.1117.16154
SEQUENCE:3
DTSTAMP:20260421T025548Z
URL:https://business.stgeorgechamber.com/events/details/meet-the-mentors-16154
END:VEVENT

END:VCALENDAR
