BEGIN:VCALENDAR
VERSION:2.0
PRODID:-//ChamberMaster//Event Calendar 2.0//EN
METHOD:PUBLISH
X-PUBLISHED-TTL:P3D
REFRESH-INTERVAL:P3D
CALSCALE:GREGORIAN
BEGIN:VEVENT
DTSTART:20260429T173000Z
DTEND:20260429T190000Z
X-MICROSOFT-CDO-ALLDAYEVENT:FALSE
SUMMARY:Meet the Member Lunch
DESCRIPTION:Meet the Member Luncheon: Go Behind the Scenes\n\nGet an exclusive look inside the businesses that make our community thrive!\n\nThe Meet the Member Luncheon is a unique monthly event where we convene directly at one of our members' locations. It's an immersive experience designed to showcase the heart of our local economy\, foster deeper connections\, and provide a casual setting for networking.\n\nEvent Highlights:\n\n\n	\n	Exclusive Facility Tour: Walk through the host member's location\, see their operations firsthand\, and understand the work they do on a day-to-day basis.\n	\n	\n	Business Spotlight & Education: The host member will share their business's history\, mission\, challenges\, and successes. Learn valuable insights you can apply to your own enterprise.\n	\n	\n	Networking & Lunch: Enjoy food catered or prepared by the host (or a fellow member) while connecting with attendees. \n	\n	\n	Support Local: By attending\, you directly support the host business and gain a better appreciation for the diverse industries within our chamber.\n	\n\n\nThis luncheon is the perfect opportunity to see the passion and process behind a successful local business. Don't miss this chance to step out of your office and into someone else's!\n\n\n\n\n\n\n\n \n\nHelp Us Build Better AI Resources We are committed to supporting AI integration within our business community. To help us develop the right tools for small and medium-sized businesses\, please consider filling out our anonymous survey. Your feedback ensures the resources we build meet your actual needs.\n\n\n	\n	Take the Survey: https://forms.gle/sjW2qUxQsxHwckyDA
X-ALT-DESC;FMTTYPE=text/html:<h2 data-pm-slice="1 1 []">&#129309\; Meet the Member Luncheon: Go Behind the Scenes</h2>\n\n<p>Get an exclusive look inside the businesses that make our community thrive!</p>\n\n<p>The <strong>Meet the Member Luncheon</strong> is a unique monthly event where we convene directly at one of our members&rsquo\; locations. It&rsquo\;s an immersive experience designed to showcase the heart of our local economy\, foster deeper connections\, and provide a casual setting for networking.</p>\n\n<h3>Event Highlights:</h3>\n\n<ul>\n	<li>\n	<p><strong>Exclusive Facility Tour:</strong> Walk through the host member&#39\;s location\, see their operations firsthand\, and understand the work they do on a day-to-day basis.</p>\n	</li>\n	<li>\n	<p><strong>Business Spotlight &amp\; Education:</strong> The host member will share their business&#39\;s history\, mission\, challenges\, and successes. Learn valuable insights you can apply to your own enterprise.</p>\n	</li>\n	<li>\n	<p><strong>Networking &amp\; Lunch:</strong> Enjoy food catered or prepared by the host (or a fellow member) while connecting with attendees.&nbsp\;</p>\n	</li>\n	<li>\n	<p><strong>Support Local:</strong> By attending\, you directly support the host business and gain a better appreciation for the diverse industries within our chamber.</p>\n	</li>\n</ul>\n\n<p>This luncheon is the perfect opportunity to see the passion and process behind a successful local business. Don&#39\;t miss this chance to step out of your office and into someone else&#39\;s!<br />\n<br />\n<br />\n<br />\n&nbsp\;</p>\n\n<p data-path-to-node="3"><b data-index-in-node="0" data-path-to-node="3">Help Us Build Better AI Resources</b> We are committed to supporting AI integration within our business community. To help us develop the right tools for small and medium-sized businesses\, please consider filling out our anonymous survey. Your feedback ensures the resources we build meet your actual needs.</p>\n\n<ul data-path-to-node="4">\n	<li>\n	<p data-path-to-node="4\,0\,0"><b data-index-in-node="0" data-path-to-node="4\,0\,0">Take the Survey:</b> <response-element ng-version="0.0.0-PLACEHOLDER"><link-block _nghost-ng-c631236604="" class="ng-star-inserted"><a _ngcontent-ng-c631236604="" _nghost-ng-c930559758="" class="ng-star-inserted" externallink="" href="https://forms.gle/sjW2qUxQsxHwckyDA" jslog="197247\;track:generic_click\,impression\,attention\;BardVeMetadataKey:[[&quot\;r_8cd90a3ca60d7129&quot\;\,&quot\;c_f0b86241ab9c2805&quot\;\,null\,&quot\;rc_48711b7004e26482&quot\;\,null\,null\,&quot\;en&quot\;\,null\,1\,null\,null\,1\,0]]" rel="noopener" target="_blank">https://forms.gle/sjW2qUxQsxHwckyDA</a></link-block></response-element></p>\n	</li>\n</ul>\n
LOCATION:Atwood Innovation Plaza
UID:e.1117.18463
SEQUENCE:3
DTSTAMP:20260420T144144Z
URL:https://business.stgeorgechamber.com/events/details/meet-the-member-lunch-18463
END:VEVENT

END:VCALENDAR
