BEGIN:VCALENDAR
VERSION:2.0
PRODID:-//ChamberMaster//Event Calendar 2.0//EN
METHOD:PUBLISH
X-PUBLISHED-TTL:P3D
REFRESH-INTERVAL:P3D
CALSCALE:GREGORIAN
BEGIN:VEVENT
DTSTART:20211208T183000Z
DTEND:20211208T200000Z
X-MICROSOFT-CDO-ALLDAYEVENT:FALSE
SUMMARY:Meet the Chamber Luncheon at Tropical Bullfrog Spas
DESCRIPTION:This Meet the Chamber Luncheon will introduce Chamber Members to Tropical Bullfrog Spas. Chamber members will visit Tropical and be treated to lunch while learning all about the company!
X-ALT-DESC;FMTTYPE=text/html:This Meet the Chamber Luncheon will introduce Chamber Members to Tropical Bullfrog Spas. Chamber members will visit Tropical and be treated to lunch while learning all about the company!
LOCATION:1333 E Red Hills Pkwy St. George\, UT 84770
UID:e.1117.16378
SEQUENCE:3
DTSTAMP:20260421T071309Z
URL:https://business.stgeorgechamber.com/events/details/meet-the-chamber-luncheon-at-tropical-bullfrog-spas-16378
END:VEVENT

END:VCALENDAR
