BEGIN:VCALENDAR
VERSION:2.0
PRODID:-//ChamberMaster//Event Calendar 2.0//EN
METHOD:PUBLISH
X-PUBLISHED-TTL:P3D
REFRESH-INTERVAL:P3D
CALSCALE:GREGORIAN
BEGIN:VEVENT
DTSTART:20140122T180000Z
DTEND:20140122T200000Z
X-MICROSOFT-CDO-ALLDAYEVENT:FALSE
SUMMARY:Meet the Chamber Lunch at Grandma Toblers Bakery
DESCRIPTION:Join us for free lunch from 11am-1pm provided by Grandma Tobler's Bakery!  Come to Grandma Tobler's for ALL your sweet escapes!
X-ALT-DESC;FMTTYPE=text/html:<span style="font-size:14px\;">Join us for free lunch from 11am-1pm provided by Grandma Tobler&#39\;s Bakery! &nbsp\;Come to Grandma Tobler&#39\;s for ALL your sweet escapes!</span>
LOCATION:Grandma Tobler's Bakery 1091 N. Bluff Street #1003
UID:e.1117.5038
SEQUENCE:3
DTSTAMP:20260421T154646Z
URL:https://business.stgeorgechamber.com/events/details/meet-the-chamber-lunch-at-grandma-toblers-bakery-01-22-2014-5038
END:VEVENT

END:VCALENDAR
