BEGIN:VCALENDAR
VERSION:2.0
PRODID:-//ChamberMaster//Event Calendar 2.0//EN
METHOD:PUBLISH
X-PUBLISHED-TTL:P3D
REFRESH-INTERVAL:P3D
CALSCALE:GREGORIAN
BEGIN:VEVENT
DTSTART:20150128T180000Z
DTEND:20150128T200000Z
X-MICROSOFT-CDO-ALLDAYEVENT:FALSE
SUMMARY:Meet the Chamber--Cache Valley Bank
DESCRIPTION:Join us as we Meet the Chamber at Cache Valley Bank. This is a fun lunchtime social event where you can enjoy a complimentary lunch\, connect with the community and meet new people. \n\n \n\nCache Valley Bank was organized in 1975. It has fifteen branches\, which are located throughout the state of Utah. The main branch is located in Logan\, with additional branches located in North Logan\, Layton\, Ephraim\, Mt. Pleasant\, Fairview\, Nephi\, Loa\, Price\, and St. George.\n\n \n\nThe bank's mission since its inception has been to provide services to small businesses\, farmers\, and residents of Utah. The bank has experienced steady growth since the mid 1980's and has now become the second- largest regulated institution in Cache County according to FDIC deposit surveys. We are excited to have expanded our services throughout the state of Utah.
X-ALT-DESC;FMTTYPE=text/html:<div align="left" style="color: rgb(0\, 0\, 0)\; line-height: normal\; font-family: Verdana\, Geneva\, Arial\, Helvetica\, sans-serif\;">\n<div align="center" style="font-size: 11pt\; text-align: center\;">\n<div align="left" style="text-align: left\; font-size: 11pt\;"><span style="font-size:14px\;"><span style="font-family:arial\;"><span face="Times New Roman" size="3">Join us&nbsp\;as we Meet the Chamber at Cache Valley Bank. This is a fun lunchtime social event where you can enjoy a complimentary lunch\, connect with the community and meet new people.&nbsp\;</span></span></span></div>\n\n<div align="left" style="text-align: left\; font-size: 11pt\;">&nbsp\;</div>\n\n<div align="left" style="text-align: left\; font-size: 11pt\;"><span style="font-size:14px\;"><span style="font-family:arial\;"><span face="Times New Roman" size="3">Cache Valley Bank was organized in 1975. It has fifteen branches\, which are located throughout the state of Utah. The main branch is located in Logan\, with additional branches located in North Logan\, Layton\, Ephraim\, Mt. Pleasant\, Fairview\, Nephi\, Loa\, Price\, and St. George.</span></span></span><br />\n&nbsp\;</div>\n\n<div align="left" style="text-align: left\; font-size: 11pt\;"><span style="font-size:14px\;"><span style="font-family:arial\;"><span face="Times New Roman" size="3">The bank&#39\;s mission since its inception has been to provide services to small businesses\, farmers\, and residents of Utah. The bank has experienced steady growth since the mid 1980&#39\;s and has now become the second- largest regulated institution in Cache County according to FDIC deposit surveys. We are excited to have expanded our services throughout the state of Utah.</span></span></span></div>\n</div>\n</div>\n
LOCATION:Cache Valley Bank 294 E. Tabernacle\, 3rd Floor
UID:e.1117.6272
SEQUENCE:3
DTSTAMP:20260420T215939Z
URL:https://business.stgeorgechamber.com/events/details/meet-the-chamber-cache-valley-bank-01-28-2015-6272
END:VEVENT

END:VCALENDAR
