BEGIN:VCALENDAR
VERSION:2.0
PRODID:-//ChamberMaster//Event Calendar 2.0//EN
METHOD:PUBLISH
X-PUBLISHED-TTL:P3D
REFRESH-INTERVAL:P3D
CALSCALE:GREGORIAN
BEGIN:VEVENT
DTSTART:20160525T170000Z
DTEND:20160525T190000Z
X-MICROSOFT-CDO-ALLDAYEVENT:FALSE
SUMMARY:Meet the Chamber at Zeppe's Italian Ice
DESCRIPTION:Join us for free lunch and networking from 11am-1pm provided by Zeppe's Italian Ice and Frozen Custard!\n\n\n\nZeppe's is dedicated to making amazing frozen desserts their Italian water ice and old fashioned frozen custard are FANTASTIC!  Italian water ice is a frozen dessert that has the texture and consistency of ice cream\, but contains no fat\, no cholesterol\, and is dairy free. It is made with fresh fruit puree\, natural flavorings\, sugar and water. Old fashioned custard is an egg based\, dense\, creamy\, premium ice cream. The egg base gives it a richer flavor\, velvety smooth texture and with less air than ice cream a denser consistency.  Gelatas are their most popular menu items because they are the best of both worlds--your choice of chocolate or vanilla old fashioned custard is layered with your favorite flavor of Italian water ice for a truly tempting dessert! The Italian water ice and old fashioned custard are made fresh daily at each Zeppe's store. They use only the finest quality ingredients mixed with lots of love to give their customers the most amazing frozen treats in Utah.
X-ALT-DESC;FMTTYPE=text/html:<span style="font-size:14px\;">Join us for free lunch and networking from 11am-1pm provided by Zeppe&#39\;s Italian Ice and Frozen Custard!</span><br />\n<br />\nZeppe&#39\;s is dedicated to making amazing frozen desserts their Italian water ice and old fashioned frozen custard are FANTASTIC! &nbsp\;Italian water ice is a frozen dessert that has the texture and consistency of ice cream\, but contains no fat\, no cholesterol\, and is dairy free. It is made with fresh fruit puree\, natural flavorings\, sugar and water. Old fashioned custard is an egg based\, dense\, creamy\, premium ice cream. The egg base gives it a richer flavor\, velvety smooth texture and with less air than ice cream a denser consistency. &nbsp\;Gelatas are their most popular menu items because they are the best of both worlds--your choice of chocolate or vanilla old fashioned custard is layered with your favorite flavor of Italian water ice for a truly tempting dessert! The Italian water ice and old fashioned custard are made fresh daily at each Zeppe&#39\;s store. They use only the finest quality ingredients mixed with lots of love to give their customers the most amazing frozen treats in Utah.
LOCATION:Zeppe's Italian Ice 1812 W. Sunset Blvd. #2 St. George
UID:e.1117.8671
SEQUENCE:3
DTSTAMP:20260419T183831Z
URL:https://business.stgeorgechamber.com/events/details/meet-the-chamber-at-zeppe-s-italian-ice-05-25-2016-8671
END:VEVENT

END:VCALENDAR
