BEGIN:VCALENDAR
VERSION:2.0
PRODID:-//ChamberMaster//Event Calendar 2.0//EN
METHOD:PUBLISH
X-PUBLISHED-TTL:P3D
REFRESH-INTERVAL:P3D
CALSCALE:GREGORIAN
BEGIN:VEVENT
DTSTART:20150527T170000Z
DTEND:20150527T190000Z
X-MICROSOFT-CDO-ALLDAYEVENT:FALSE
SUMMARY:Meet the Chamber at Tuacahn
DESCRIPTION:Learn more about this year's summer season at Tuacahn at the May Meet the Chamber!\n\n\n\n2015 Season includes:  Beauty and the Beast\, Disney's When you Wish\, and Sister Act.  \n\n\n\nBackstage tours will be available.  Lunch is free for Chamber members.  Please go to the dance studio on the second floor of Tuacahn High School.
X-ALT-DESC;FMTTYPE=text/html:Learn more about this year&#39\;s summer season at Tuacahn&nbsp\;at the May Meet the Chamber!<br />\n<br />\n2015 Season includes: &nbsp\;Beauty and the Beast\, Disney&#39\;s When you Wish\, and Sister Act. &nbsp\;<br />\n<br />\nBackstage tours will be available. &nbsp\;Lunch is free for Chamber members. &nbsp\;Please go to the dance studio on the second floor of Tuacahn High School.
LOCATION:Tuacahn 1100 Tuacahn Drive Ivins\, UT
UID:e.1117.6449
SEQUENCE:3
DTSTAMP:20260420T173054Z
URL:https://business.stgeorgechamber.com/events/details/meet-the-chamber-at-tuacahn-05-27-2015-6449
END:VEVENT

END:VCALENDAR
