BEGIN:VCALENDAR
VERSION:2.0
PRODID:-//ChamberMaster//Event Calendar 2.0//EN
METHOD:PUBLISH
X-PUBLISHED-TTL:P3D
REFRESH-INTERVAL:P3D
CALSCALE:GREGORIAN
BEGIN:VEVENT
DTSTART:20160511T170000Z
DTEND:20160511T190000Z
X-MICROSOFT-CDO-ALLDAYEVENT:FALSE
SUMMARY:Meet the Chamber at the Lucky 13 Chamber Golf Classic
DESCRIPTION:In conjunction with the "Lucky 13" Chamber Classic Golf Tournament\, the St. George Chamber will be hosting a FREE lunch event.  Join us at Sunbrook Golf Course for games\, raffle drawings\, learn about the plans for the new business center and network with other businesses!
X-ALT-DESC;FMTTYPE=text/html:<span style="font-size:14px\;"><span style="font-family:arial\;">In conjunction with the &quot\;Lucky 13&quot\; Chamber Classic Golf Tournament\, the St. George Chamber will be hosting a FREE lunch event. &nbsp\;Join us at Sunbrook Golf Course for games\, raffle drawings\, learn about the plans for the new business center and network with other businesses!</span></span>
LOCATION:Sunbrook Golf Course 2366 W. Sunbrook Dr. St. George\, UT
UID:e.1117.8669
SEQUENCE:3
DTSTAMP:20260419T183800Z
URL:https://business.stgeorgechamber.com/events/details/meet-the-chamber-at-the-lucky-13-chamber-golf-classic-05-11-2016-8669
END:VEVENT

END:VCALENDAR
