BEGIN:VCALENDAR
VERSION:2.0
PRODID:-//ChamberMaster//Event Calendar 2.0//EN
METHOD:PUBLISH
X-PUBLISHED-TTL:P3D
REFRESH-INTERVAL:P3D
CALSCALE:GREGORIAN
BEGIN:VEVENT
DTSTART:20140924T170000Z
DTEND:20140924T190000Z
X-MICROSOFT-CDO-ALLDAYEVENT:FALSE
SUMMARY:Meet the Chamber at The DiFiore Center
DESCRIPTION:"Meet The DiFiore Center @ The Hafen Home on Mount Hope"\n\n \n\nThe Hafen Home on Mount Hope\, a St. George Historical Landmark\, was built in 1952 and designed by Cedar City architect L. Robert Gardner.  Orval Hafen practiced law\, was President of the Utah State Bar Association in 1943\, Utah State Senator for 12 years and Senate President in 1959.  In the 1950s\, when the state could no longer maintain Dixie College\, Orval Hafen cosponsored legislation to continue ownership. \n\n \n\nThe Roene B. DiFiore Center for Arts and Education has been established for the development of arts and education as a hub for the Southern Utah creative community. The DiFiore Center\, a nonprofit 501(c)(3) organization\, is focused on preserving human connection.  All funding for the center is donation-based\, and 100%  of the donations go to programs and operations.  Please join us at an open house and be introduced to the many arts groups housed at the DiFiore Center:\n\n \n\nArtistic Resource for Teachers and Students\, (A.R.T.S.) Inc.\n\nLaughing Cactus Puppetry Guild of Southern Utah \n\nThe Utah Mural Arts Foundation \n\nSt. George Dance Company \n\nThe Space Between Theatre Company \n\nSouthern Utah Early Childhood Connection \n\nLas Palomas Flamenco Dance Company\n\nSing-2-Live \n\nAffiliates of the DiFiore Center also include the Southern Utah Arts Guild\, Arts to ZION\, DOCUTAH\, Washington County School District\, Dixie State University\, Southern Utah Watercolor Society\, Painted Hills Fiber Artists and many more.\n\n \n\nAn alluring gourmet lunch will be hosted by the DiPietros European Bistro in Santa Clara and Croshaw's Gourmet Pies.
X-ALT-DESC;FMTTYPE=text/html:&ldquo\;Meet The DiFiore Center @ The Hafen Home on Mount Hope&rdquo\;<br />\n&nbsp\;<br />\nThe Hafen Home on Mount Hope\, a St. George Historical Landmark\, was built in 1952 and designed by Cedar City architect L. Robert Gardner. &nbsp\;Orval Hafen practiced law\, was President of the Utah State Bar Association in 1943\, Utah State Senator for 12 years and Senate President in 1959. &nbsp\;In the 1950s\, when the state could no longer maintain Dixie College\, Orval Hafen cosponsored legislation to continue ownership.&nbsp\;<br />\n&nbsp\;<br />\nThe Roene B. DiFiore Center for Arts and Education has been established for the development of arts and education as a hub for the Southern Utah creative community. The DiFiore Center\, a nonprofit 501(c)(3) organization\, is focused on preserving human connection. &nbsp\;All funding for the center is donation-based\, and 100% &nbsp\;of the donations go to programs and operations. &nbsp\;Please join us at an open house and be introduced to the many arts groups housed at the DiFiore Center:<br />\n&nbsp\;<br />\nArtistic Resource for Teachers and Students\, (A.R.T.S.) Inc.<br />\nLaughing Cactus Puppetry Guild of Southern Utah&nbsp\;<br />\nThe Utah Mural Arts Foundation&nbsp\;<br />\nSt. George Dance Company&nbsp\;<br />\nThe Space Between Theatre Company&nbsp\;<br />\nSouthern Utah Early Childhood Connection&nbsp\;<br />\nLas Palomas Flamenco Dance Company<br />\nSing-2-Live&nbsp\;<br />\nAffiliates of the DiFiore Center also include the Southern Utah Arts Guild\, Arts to ZION\, DOCUTAH\, Washington County School District\, Dixie State University\, Southern Utah Watercolor Society\, Painted Hills Fiber Artists and many more.<br />\n&nbsp\;<br />\nAn alluring gourmet lunch will be hosted by the DiPietros European Bistro in Santa Clara and Croshaw&#39\;s Gourmet Pies.
LOCATION:The DiFiore Center 307 North Main St. St. George\, UT
UID:e.1117.6093
SEQUENCE:3
DTSTAMP:20260421T055618Z
URL:https://business.stgeorgechamber.com/events/details/meet-the-chamber-at-the-difiore-center-09-24-2014-6093
END:VEVENT

END:VCALENDAR
