BEGIN:VCALENDAR
VERSION:2.0
PRODID:-//ChamberMaster//Event Calendar 2.0//EN
METHOD:PUBLISH
X-PUBLISHED-TTL:P3D
REFRESH-INTERVAL:P3D
CALSCALE:GREGORIAN
BEGIN:VEVENT
DTSTART:20150826T170000Z
DTEND:20150826T190000Z
X-MICROSOFT-CDO-ALLDAYEVENT:FALSE
SUMMARY:Meet the Chamber at St. George Musical Theatre
DESCRIPTION:Meet the Chamber at St. George Musical Theatre!\n\n\n\nSt. George Musical Theater is southern Utah's oldest and most successful community theater and recently returned after a five year absence with a very successful first "comeback" season that featured "The Sound of Music\, "The Odd Couple\, " "Dirty Rotten Scoundrels\," and "The Music Man." They also hosted sold out performances of recording artist Mindy Gledhill and a Christmas concert with popular local musician Eric Dodge. After only one season\, SGMT was voted in the Spectrum's reader's poll the second best live theater in southern Utah right behind Tuacahn Theater. Their performances are in-the-round in the historic Opera House and their new season opens Aug. 13 with the musical classic "West Side Story." Their leadership team includes Bruce Bennett as Executive Director\, Debe Jacobs as Artistic Director and Dan Olsen as Managing Director. SGMT is a 501(c) 3 non-profit community theater that is primarily volunteer based with no paid performers.
X-ALT-DESC;FMTTYPE=text/html:<p><span style="color:#000000\;"><span style="font-size:14px\;"><span style="font-family:arial\;">Meet the Chamber at St. George Musical Theatre!<br />\n<br />\nSt. George Musical Theater is southern Utah&#39\;s oldest and most successful community theater and recently returned after a five year absence with a very successful first &quot\;comeback&quot\; season that featured &quot\;The Sound of Music\, &quot\;The Odd Couple\, &quot\; &quot\;Dirty Rotten Scoundrels\,&quot\; and &quot\;The Music Man.&quot\; They also hosted sold out performances of recording artist Mindy Gledhill and a Christmas concert with popular local musician Eric Dodge. After only one season\, SGMT was voted in the Spectrum&#39\;s reader&#39\;s poll the second best live theater in southern Utah right behind Tuacahn Theater. Their performances are in-the-round in the historic Opera House and their new season opens Aug. 13 with the musical classic &quot\;West Side Story.&quot\; Their leadership team includes Bruce Bennett as Executive Director\, Debe Jacobs as Artistic Director and Dan Olsen as Managing Director. SGMT is a 501(c) 3 non-profit community theater that is primarily volunteer based with no paid performers.</span></span></span></p>\n
LOCATION:St. George Musical Theatre 212 N. Main Street St. George
UID:e.1117.6988
SEQUENCE:3
DTSTAMP:20260420T104023Z
URL:https://business.stgeorgechamber.com/events/details/meet-the-chamber-at-st-george-musical-theatre-08-26-2015-6988
END:VEVENT

END:VCALENDAR
