BEGIN:VCALENDAR
VERSION:2.0
PRODID:-//ChamberMaster//Event Calendar 2.0//EN
METHOD:PUBLISH
X-PUBLISHED-TTL:P3D
REFRESH-INTERVAL:P3D
CALSCALE:GREGORIAN
BEGIN:VEVENT
DTSTART:20160427T170000Z
DTEND:20160427T190000Z
X-MICROSOFT-CDO-ALLDAYEVENT:FALSE
SUMMARY:Meet the Chamber at St. George Children's Museum
DESCRIPTION:Learn more about the St. George Children's Museum at the April Meet the Chamber!\n\n\n\nThe St. George Children's Museum provides vibrant and engaging interactive activities that invite children and families to discover\, imagine and create.\n\nThe vision of SGCM is to accomplish its mission by welcoming all children and encouraging them to appreciate the power of play and exploration. As a part of this process\, we will seek to be a creative space which develops confident\, informed children who are excited by inquiry and the world around them.\n\nWe value and are dedicated to serving all children and their families in our community.  We value excellence in all museum endeavors and recognize it as a key factor to our success.  We value collaboration and partnerships with all facets of our community.  We value innovation and creativity in promoting the growth and experience of children.
X-ALT-DESC;FMTTYPE=text/html:<span style="color:#000000\;"><span style="font-size:14px\;"><span style="font-family:arial\;">Learn more about the St. George Children&#39\;s Museum&nbsp\;at the April Meet the Chamber!<br />\n<br />\nThe St. George Children&rsquo\;s Museum provides vibrant and engaging interactive activities that invite children and families to discover\, imagine and create.<br />\nThe vision of SGCM is to accomplish its mission by welcoming all children and encouraging them to appreciate the power of play and exploration. As a part of this process\, we will seek to be a creative space which develops confident\, informed children who are excited by inquiry and the world around them.<br />\nWe value and are dedicated to serving all children and their families in our community.&nbsp\; We value excellence in all museum endeavors and recognize it as a key factor to our success.&nbsp\; We value collaboration and partnerships with all facets of our community.&nbsp\; We value innovation and creativity in promoting the growth and experience of children.</span></span></span><br />\n&nbsp\;
LOCATION:St. George Children's Museum 86 S. Main St. George\, UT
UID:e.1117.8473
SEQUENCE:3
DTSTAMP:20260419T220230Z
URL:https://business.stgeorgechamber.com/events/details/meet-the-chamber-at-st-george-children-s-museum-04-27-2016-8473
END:VEVENT

END:VCALENDAR
