BEGIN:VCALENDAR
VERSION:2.0
PRODID:-//ChamberMaster//Event Calendar 2.0//EN
METHOD:PUBLISH
X-PUBLISHED-TTL:P3D
REFRESH-INTERVAL:P3D
CALSCALE:GREGORIAN
BEGIN:VEVENT
DTSTART:20151216T180000Z
DTEND:20151216T200000Z
X-MICROSOFT-CDO-ALLDAYEVENT:FALSE
SUMMARY:Meet the Chamber at St. George Chamber of Commerce
DESCRIPTION:This Meet the Chamber luncheon will be at the Chamber office.  Come visit us at the historic courthouse\, enjoy free lunch\, and take a tour of our soon to be new offices!
X-ALT-DESC;FMTTYPE=text/html:<span style="color:#000000\;"><span style="font-size:14px\;"><span style="font-family:arial\;">This Meet the Chamber luncheon will be at the Chamber office.&nbsp\; Come visit us at the historic courthouse\, enjoy free lunch\, and take a tour of our soon to be new offices!</span></span></span>
LOCATION:97 East St. George Blvd. St. George\, UT
UID:e.1117.7379
SEQUENCE:3
DTSTAMP:20260420T031919Z
URL:https://business.stgeorgechamber.com/events/details/meet-the-chamber-at-st-george-chamber-of-commerce-12-16-2015-7379
END:VEVENT

END:VCALENDAR
