BEGIN:VCALENDAR
VERSION:2.0
PRODID:-//ChamberMaster//Event Calendar 2.0//EN
METHOD:PUBLISH
X-PUBLISHED-TTL:P3D
REFRESH-INTERVAL:P3D
CALSCALE:GREGORIAN
BEGIN:VEVENT
DTSTART:20160622T170000Z
DTEND:20160622T190000Z
X-MICROSOFT-CDO-ALLDAYEVENT:FALSE
SUMMARY:Meet the Chamber at Spilsbury Mortuary
DESCRIPTION:Exciting things are happening at Spilsbury Mortuary.  Join us as we host the Meet the Chamber luncheon on June 22nd\, which includes a ribbon cutting ceremony at 11 am.   We are rededicating our mortuary after a remodel and addition to better facilitate the families we serve. Tours of our new additions and a preview of our new Remembrance Reception Packages will follow.  Networking\, refreshments and drawings\, (11 am to 1 pm.) don't miss out.\n\n\n\nSpilsbury Mortuary stands majestic against the desert sandstone cliffs of St. George\, Utah. A place of genuine caring and compassion\, it's serene setting of inspiring beauty provides an elegant backdrop for all types of memorial services. You can be confident that every aspect of a service will be directed with a warm combination of friendship\, dignity\, and excellence.\n\nWhen a family chooses Spilsbury Mortuary\, they choose a family and staff who will provide a remarkable and dignified service as unique as their loved one.
X-ALT-DESC;FMTTYPE=text/html:<span style="color:#000000\;"><span style="font-size:14px\;"><span style="font-family:arial\;">Exciting things are happening at Spilsbury Mortuary. &nbsp\;Join us as we host the Meet the Chamber luncheon on June 22<sup>nd</sup>\, which includes a ribbon cutting ceremony at 11 am. &nbsp\;&nbsp\;We are rededicating our mortuary after a remodel and addition to better facilitate the families we serve. Tours of our new additions and a preview of our new Remembrance Reception Packages will follow.&nbsp\; Networking\, refreshments and drawings\, (11 am to 1 pm.) don&rsquo\;t miss out.<br />\n<br />\nSpilsbury Mortuary stands majestic against the desert sandstone cliffs of St. George\, Utah. A place of genuine caring and compassion\, it&rsquo\;s serene setting of inspiring beauty provides an elegant backdrop for all types of memorial services. You can be confident that every aspect of a service will be directed with a warm combination of friendship\, dignity\, and excellence.<br />\nWhen a family chooses Spilsbury Mortuary\, they choose a family and staff who will provide a remarkable and dignified service as unique as their loved one.</span></span></span>
LOCATION:Spilsbury Mortuary 110 S. Bluff Street St. George
UID:e.1117.8984
SEQUENCE:3
DTSTAMP:20260419T165423Z
URL:https://business.stgeorgechamber.com/events/details/meet-the-chamber-at-spilsbury-mortuary-06-22-2016-8984
END:VEVENT

END:VCALENDAR
