BEGIN:VCALENDAR
VERSION:2.0
PRODID:-//ChamberMaster//Event Calendar 2.0//EN
METHOD:PUBLISH
X-PUBLISHED-TTL:P3D
REFRESH-INTERVAL:P3D
CALSCALE:GREGORIAN
BEGIN:VEVENT
DTSTART:20150225T180000Z
DTEND:20150225T200000Z
X-MICROSOFT-CDO-ALLDAYEVENT:FALSE
SUMMARY:Meet the Chamber at Southern Utah Veterans Home
DESCRIPTION:Join us as we Meet the Chamber at the Southern Utah Veterans Home. This is a fun lunchtime social event where you can enjoy a complimentary lunch\, connect with the community and meet new people.\n\n \n\nThe Southern Utah Veterans Home is a state-of-the-art facility conveniently located under the Big Red Majestic Mountain of Ivins City. This facility was built to provide the very best accommodations for Veterans in need of long term care. Spouses of Veterans and Gold Star parents are also eligible.\n\n \n\nThe mission statement for the Southern Utah Veterans Home is "We are a community providing quality of life and quality of care with dignity and honor to Veterans and families."\n\n\n\nThe Southern Utah Veterans Home offers the very best in quality care. These services include:\n\n\n\nRehabilitative Services\n\nMemory Care\n\nHospice Care\n\nDaily Entertainment and Activities\n\nLaundry Services\n\nExcellent Food\n\nMedicare and Medicaid Certified
X-ALT-DESC;FMTTYPE=text/html:<div align="left" style="color: rgb(0\, 0\, 0)\; font-family: Verdana\, Geneva\, Arial\, Helvetica\, sans-serif\; font-size: 14.6666669845581px\; line-height: normal\;">Join us&nbsp\;as we Meet the Chamber at the Southern Utah Veterans Home.&nbsp\;This is a fun lunchtime social event where you can enjoy a complimentary lunch\, connect with the community and meet new people.</div>\n\n<div align="left" style="color: rgb(0\, 0\, 0)\; font-family: Verdana\, Geneva\, Arial\, Helvetica\, sans-serif\; font-size: 14.6666669845581px\; line-height: normal\;">&nbsp\;</div>\n\n<div align="left" style="color: rgb(0\, 0\, 0)\; font-family: Verdana\, Geneva\, Arial\, Helvetica\, sans-serif\; font-size: 14.6666669845581px\; line-height: normal\;">The Southern Utah Veterans Home is a state-of-the-art facility conveniently located under the Big Red Majestic Mountain of Ivins City. This facility was built to provide the very best accommodations for Veterans in need of long term care. Spouses of Veterans and Gold Star parents are also eligible.</div>\n\n<div align="left" style="color: rgb(0\, 0\, 0)\; font-family: Verdana\, Geneva\, Arial\, Helvetica\, sans-serif\; font-size: 14.6666669845581px\; line-height: normal\;">&nbsp\;</div>\n\n<div align="left" style="color: rgb(0\, 0\, 0)\; font-family: Verdana\, Geneva\, Arial\, Helvetica\, sans-serif\; font-size: 14.6666669845581px\; line-height: normal\;">The mission statement for the Southern Utah Veterans Home is &quot\;We are a community providing quality of life and quality of care with dignity and honor to Veterans and families.&quot\;<br />\n<br />\nThe Southern Utah Veterans Home offers the very best in quality care. These services include:<br />\n<br />\nRehabilitative Services<br />\nMemory Care<br />\nHospice Care<br />\nDaily Entertainment and Activities<br />\nLaundry Services<br />\nExcellent Food<br />\nMedicare and Medicaid Certified</div>\n
LOCATION:Southern Utah Veterans Home 160 North 200 East Ivins\, Utah
UID:e.1117.6291
SEQUENCE:3
DTSTAMP:20260420T205452Z
URL:https://business.stgeorgechamber.com/events/details/meet-the-chamber-at-southern-utah-veterans-home-02-25-2015-6291
END:VEVENT

END:VCALENDAR
