BEGIN:VCALENDAR
VERSION:2.0
PRODID:-//ChamberMaster//Event Calendar 2.0//EN
METHOD:PUBLISH
X-PUBLISHED-TTL:P3D
REFRESH-INTERVAL:P3D
CALSCALE:GREGORIAN
BEGIN:VEVENT
DTSTART:20160127T180000Z
DTEND:20160127T200000Z
X-MICROSOFT-CDO-ALLDAYEVENT:FALSE
SUMMARY:Meet the Chamber at Nilsson Hearing Clinic
DESCRIPTION:Join us for free lunch and networking from 11am-1pm provided by Nilsson Hearing Clinic!\n\n \nFor over 33 years\, Nilsson Hearing Clinics has believed in the ideal of a world where those with diminished hearing (and their loved ones) could live a life unhindered by the obstacles\, misperceptions\, and diminished lifestyle that were once associated with decreased hearing ability.\n\nNilsson Hearing Clinics\, our audiologists and staff\, empower people on a daily basis to stay active-engaged and connected to their community by providing life-enhancement services that solve the struggles of those affected by diminished hearing ability.\n\nIn order to fulfill our mission of 'Empowering Active-Aging' our hearing clinics offer FREE Clinical Hearing Evaluations\, Comprehensive Treatment Protocols\, Personalized Auditory and Brain Stimulation\, and the most advanced\, natural-sounding frequency-specific amplification devices the world has to offer. Our hearing aid solutions range from invisible to behind-the-ear and include the proprietary BrainHearing  Technology that makes hearing speech details possible once again.
X-ALT-DESC;FMTTYPE=text/html:<span style="font-size:14px\;">Join us for free lunch and networking from 11am-1pm provided by Nilsson Hearing Clinic!</span><br />\n&nbsp\;\n<p style="box-sizing: inherit\; margin: 0px 0px 18px\; padding: 0px\; max-height: 1e+06px\; border: 0px\; font-family: 'Helvetica Neue'\, Helvetica\, Arial\, sans-serif\; font-size: 14px\; line-height: 22px\; background: none\;">For over 33 years\, Nilsson Hearing Clinics has believed in the ideal of a world where those with diminished hearing (and their loved ones) could live a life unhindered by the obstacles\, misperceptions\, and diminished lifestyle that were once associated with decreased hearing ability.</p>\n\n<p style="box-sizing: inherit\; margin: 0px 0px 18px\; padding: 0px\; max-height: 1e+06px\; border: 0px\; font-family: 'Helvetica Neue'\, Helvetica\, Arial\, sans-serif\; font-size: 14px\; line-height: 22px\; background: none\;">Nilsson Hearing Clinics\, our audiologists and staff\, empower people on a daily basis to stay active-engaged and connected to their community by providing life-enhancement services that solve the struggles of those affected by diminished hearing ability.</p>\n\n<p style="box-sizing: inherit\; margin: 0px 0px 18px\; padding: 0px\; max-height: 1e+06px\; border: 0px\; font-family: 'Helvetica Neue'\, Helvetica\, Arial\, sans-serif\; font-size: 14px\; line-height: 22px\; background: none\;">In order to fulfill our mission of &lsquo\;Empowering Active-Aging&rsquo\; our hearing clinics offer FREE Clinical Hearing Evaluations\, Comprehensive Treatment Protocols\, Personalized Auditory and Brain Stimulation\, and the most advanced\, natural-sounding frequency-specific amplification devices the world has to offer. Our hearing aid solutions range from invisible to behind-the-ear and include the proprietary BrainHearing&trade\; Technology that makes hearing speech details possible once again.</p>\n
LOCATION:Nilsson Hearing Clinic 161 West 200 North Suite 110 St. George
UID:e.1117.7390
SEQUENCE:3
DTSTAMP:20260420T013216Z
URL:https://business.stgeorgechamber.com/events/details/meet-the-chamber-at-nilsson-hearing-clinic-01-27-2016-7390
END:VEVENT

END:VCALENDAR
