BEGIN:VCALENDAR
VERSION:2.0
PRODID:-//ChamberMaster//Event Calendar 2.0//EN
METHOD:PUBLISH
X-PUBLISHED-TTL:P3D
REFRESH-INTERVAL:P3D
CALSCALE:GREGORIAN
BEGIN:VEVENT
DTSTART:20151028T170000Z
DTEND:20151028T190000Z
X-MICROSOFT-CDO-ALLDAYEVENT:FALSE
SUMMARY:Meet the Chamber at LiVe Well Center
DESCRIPTION:Health is the most important gift you can give yourself\, so why wait?  You can start now!  Dixie Regional's LiVe Well Center has more than 40 weekly fitness classes and evidenced-based biometric assessments that will help you Get Well\, Stay Well and LiVe Well for the rest your life.
X-ALT-DESC;FMTTYPE=text/html:<span style="color:#000000\;"><span style="font-size:14px\;"><span style="font-family:arial\;">Health is the most important gift you can give yourself\, so why wait?&nbsp\; You can start now! &nbsp\;Dixie Regional&rsquo\;s LiVe Well Center has more than 40 weekly fitness classes and evidenced-based biometric assessments that will help you Get Well\, Stay Well and LiVe Well for the rest your life.&nbsp\; &nbsp\;</span></span></span>
LOCATION:LiVe Well Center 652 S. Medical Center Dr. Main Level
UID:e.1117.7272
SEQUENCE:3
DTSTAMP:20260420T065552Z
URL:https://business.stgeorgechamber.com/events/details/meet-the-chamber-at-live-well-center-10-28-2015-7272
END:VEVENT

END:VCALENDAR
