BEGIN:VCALENDAR
VERSION:2.0
PRODID:-//ChamberMaster//Event Calendar 2.0//EN
METHOD:PUBLISH
X-PUBLISHED-TTL:P3D
REFRESH-INTERVAL:P3D
CALSCALE:GREGORIAN
BEGIN:VEVENT
DTSTART:20150624T170000Z
DTEND:20150624T190000Z
X-MICROSOFT-CDO-ALLDAYEVENT:FALSE
SUMMARY:Meet the Chamber at Jiffy Lube
DESCRIPTION:Meet the Chamber at Jiffy Lube and get $20 off an oil change!  Come mingle and have free lunch provided by Jiffy Lube.\n\nJiffy Lube is the leader in the fast lube industry. They offer an assortment of preventative maintenance services to go along with their Signature Oil Change. Jiffy Lube provides fast\, convenient service using quality products.
X-ALT-DESC;FMTTYPE=text/html:Meet the Chamber at Jiffy Lube and get $20 off an oil change! &nbsp\;Come mingle and have free lunch provided by Jiffy Lube.<br />\nJiffy Lube is the leader in the fast lube industry. They offer an assortment of preventative maintenance services to go along with their Signature Oil Change. Jiffy Lube provides fast\, convenient service using quality products.
LOCATION:Jiffy Lube 1393 S. River Road
UID:e.1117.6479
SEQUENCE:3
DTSTAMP:20260420T155500Z
URL:https://business.stgeorgechamber.com/events/details/meet-the-chamber-at-jiffy-lube-06-24-2015-6479
END:VEVENT

END:VCALENDAR
