BEGIN:VCALENDAR
VERSION:2.0
PRODID:-//ChamberMaster//Event Calendar 2.0//EN
METHOD:PUBLISH
X-PUBLISHED-TTL:P3D
REFRESH-INTERVAL:P3D
CALSCALE:GREGORIAN
BEGIN:VEVENT
DTSTART:20160224T180000Z
DTEND:20160224T200000Z
X-MICROSOFT-CDO-ALLDAYEVENT:FALSE
SUMMARY:Meet the Chamber at Holiday Inn
DESCRIPTION:WE invite you to celebrate the Grand Opening and Ribbon Cutting of the beautiful\, new Holiday Inn St. George Convention Center.  Come enjoy live music\, food\, prizes and fun.  You'll have the opportunity to tour our new modern designed hotel and the new Burger Theory Restaurant.
X-ALT-DESC;FMTTYPE=text/html:<span style="color:#000000\;">WE invite you to celebrate the Grand Opening and Ribbon Cutting of the beautiful\, new Holiday Inn St. George Convention Center.&nbsp\; Come enjoy live music\, food\, prizes and fun.&nbsp\; You&rsquo\;ll have the opportunity to tour our new modern designed hotel and the new Burger Theory Restaurant.</span>
LOCATION:Holiday Inn 1808 S. Crosby Way St. George
UID:e.1117.8449
SEQUENCE:3
DTSTAMP:20260419T234823Z
URL:https://business.stgeorgechamber.com/events/details/meet-the-chamber-at-holiday-inn-02-24-2016-8449
END:VEVENT

END:VCALENDAR
