BEGIN:VCALENDAR
VERSION:2.0
PRODID:-//ChamberMaster//Event Calendar 2.0//EN
METHOD:PUBLISH
X-PUBLISHED-TTL:P3D
REFRESH-INTERVAL:P3D
CALSCALE:GREGORIAN
BEGIN:VEVENT
DTSTART:20150422T170000Z
DTEND:20150422T190000Z
X-MICROSOFT-CDO-ALLDAYEVENT:FALSE
SUMMARY:Meet the Chamber at ERA Brokers
DESCRIPTION:Join us for free lunch and networking from 11am-1pm provided by ERA Brokers!
X-ALT-DESC;FMTTYPE=text/html:<span style="font-size:14px\;">Join us for free lunch and networking from 11am-1pm provided by ERA Brokers!</span>
LOCATION:ERA Brokers 201 East St. George Blvd.
UID:e.1117.6401
SEQUENCE:3
DTSTAMP:20260420T190936Z
URL:https://business.stgeorgechamber.com/events/details/meet-the-chamber-at-era-brokers-04-22-2015-6401
END:VEVENT

END:VCALENDAR
