BEGIN:VCALENDAR
VERSION:2.0
PRODID:-//ChamberMaster//Event Calendar 2.0//EN
METHOD:PUBLISH
X-PUBLISHED-TTL:P3D
REFRESH-INTERVAL:P3D
CALSCALE:GREGORIAN
BEGIN:VEVENT
DTSTART:20140827T170000Z
DTEND:20140827T190000Z
X-MICROSOFT-CDO-ALLDAYEVENT:FALSE
SUMMARY:Meet the Chamber at Dixie State University Eccles Fine Arts Center
DESCRIPTION:The DSU Cultural Arts Department is thrilled to host the St. George Chamber members on Wednesday\, August 27.  Lunch will be served throughout the event. You will have the opportunity to mingle and learn more about DOCUTAH\, The Celebrity Concert Series and what's coming up this school year in the world of fine arts and performance at Dixie State. Six days from DOCUTAH means it's time to pick up your festival guide and watch a few festival trailers. Other surprises await so come and see what the DSU Cultural Arts Department have in store for you.
X-ALT-DESC;FMTTYPE=text/html:<span style="font-size:14px\;"><span style="font-family:arial\;"><span style="background-image:initial\;background-attachment:initial\;background-size:initial\;background-origin:initial\;background-clip:initial\;background-position:initial\;background-repeat:initial\;">The</span>&nbsp\;<span style="background-image:initial\;background-attachment:initial\;background-size:initial\;background-origin:initial\;background-clip:initial\;background-position:initial\;background-repeat:initial\;">DSU</span>&nbsp\;<span style="background-image:initial\;background-attachment:initial\;background-size:initial\;background-origin:initial\;background-clip:initial\;background-position:initial\;background-repeat:initial\;">Cultural Arts Department is thrilled to host the St. George Chamber members on Wednesday\, August 27. &nbsp\;Lunch will be served throughout the event. You will have the opportunity to mingle and learn more about DOCUTAH\, The Celebrity Concert Series and what&#39\;s coming up this school year in the world of fine arts and performance at Dixie State. Six days from DOCUTAH means it&rsquo\;s time to pick up your&nbsp\;</span><span style="background-image:initial\;background-attachment:initial\;background-size:initial\;background-origin:initial\;background-clip:initial\;background-position:initial\;background-repeat:initial\;">festival guide and watch a few festival trailers. Other surprises await so come and see what the</span>&nbsp\;<span style="background-image:initial\;background-attachment:initial\;background-size:initial\;background-origin:initial\;background-clip:initial\;background-position:initial\;background-repeat:initial\;">DSU</span>&nbsp\;Cultural Arts D<span style="background-image:initial\;background-attachment:initial\;background-size:initial\;background-origin:initial\;background-clip:initial\;background-position:initial\;background-repeat:initial\;">epartment have in store for you.</span></span></span>
LOCATION:Delores Dore Eccles Fine Arts Center Dixie State University
UID:e.1117.5327
SEQUENCE:3
DTSTAMP:20260421T070601Z
URL:https://business.stgeorgechamber.com/events/details/meet-the-chamber-at-dixie-state-university-eccles-fine-arts-center-08-27-2014-5327
END:VEVENT

END:VCALENDAR
