BEGIN:VCALENDAR
VERSION:2.0
PRODID:-//ChamberMaster//Event Calendar 2.0//EN
METHOD:PUBLISH
X-PUBLISHED-TTL:P3D
REFRESH-INTERVAL:P3D
CALSCALE:GREGORIAN
BEGIN:VEVENT
DTSTART:20160824T170000Z
DTEND:20160824T190000Z
X-MICROSOFT-CDO-ALLDAYEVENT:FALSE
SUMMARY:Meet the Chamber at Dixie State University Burns Arena
DESCRIPTION:This month's Meet the Chamber will be held in the "D Room\," the newest addition to the Burns Arena on the campus of Dixie State University.  The new building houses the athletic\, development HR and marketing departments.  Attendees will be able to see the new floor of the Burns Arena\, have some fun on the court\, tour the facility\, eat lunch and network.\n\nSome parking is available in Lot M (just north of the building)\, but Lot N is also available.
X-ALT-DESC;FMTTYPE=text/html:<p><span style="color:#000000\;"><span style="font-size:14px\;"><span style="font-family:arial\;">This month&#39\;s Meet the Chamber will be held in the &quot\;D Room\,&quot\; the newest addition to the Burns Arena on the campus of Dixie State University. &nbsp\;The new building houses the athletic\, development HR and marketing departments. &nbsp\;Attendees will be able to see the new floor of the Burns Arena\,&nbsp\;have some fun on the court\, tour the facility\, eat lunch and network.</span></span></span></p>\n\n<p><span style="color:#000000\;"><span style="font-size:14px\;"><span style="font-family:arial\;">Some parking is available in Lot M (just north of the building)\, but Lot N is also available.</span></span></span></p>\n
LOCATION:Dixie State University Burns Arena 225 E. 700 S.
UID:e.1117.9666
SEQUENCE:3
DTSTAMP:20260421T083742Z
URL:https://business.stgeorgechamber.com/events/details/meet-the-chamber-at-dixie-state-university-burns-arena-08-24-2016-9666
END:VEVENT

END:VCALENDAR
