BEGIN:VCALENDAR
VERSION:2.0
PRODID:-//ChamberMaster//Event Calendar 2.0//EN
METHOD:PUBLISH
X-PUBLISHED-TTL:P3D
REFRESH-INTERVAL:P3D
CALSCALE:GREGORIAN
BEGIN:VEVENT
DTSTART:20140528T170000Z
DTEND:20140528T190000Z
X-MICROSOFT-CDO-ALLDAYEVENT:FALSE
SUMMARY:Meet the Chamber at Cliffside Restaurant
DESCRIPTION:The Spectrum did a full page review on the new Cliffside Restaurant and gave it stellar marks.  Now it's your turn to check it out tomorrow when the Cliffside Restaurant hosts a free lunch for Chamber members.  The million dollar view alone is worth your lunch hour but to have their chefs prepare samplings of their fare for us to enjoy is a extra special bonus.  And\, it's free!\n\n  \n\nWe'll also be having a ribbon cutting at noon to welcome the restaurant and the Inn on the Cliff to St George.  There will be tours of the newly remolded rooms\, swimming pool\, terrace and restaurant facilities.  This is not to be missed because Tom and Dorothy Heers have transformed this location into one of the crown jewels of St George.
X-ALT-DESC;FMTTYPE=text/html:<span style="color:black\;"><span style="font-family:verdana\,sans-serif\;">The Spectrum did a full page review on the new Cliffside </span></span><span style="color:black\;"><span style="font-family:verdana\,sans-serif\;">Restaurant and gave it stellar marks.&nbsp\; Now it&#39\;s your turn to check it out tomorrow when the Cliffside Restaurant hosts a free lunch for Chamber members.&nbsp\; The million dollar view alone is worth your lunch hour but to have their chefs prepare samplings of their fare for us to enjoy is a extra special bonus.&nbsp\; And\, it&#39\;s free!</span></span><br />\n&nbsp\;&nbsp\;<br />\n<span style="color:black\;"><span style="font-family:verdana\,sans-serif\;">We&#39\;ll also be having a ribbon cutting at noon to welcome the restaurant and the Inn on the Cliff to St George.&nbsp\; There will be tours of the newly remolded rooms\, swimming pool\, terrace and restaurant facilities.&nbsp\; This is not to be missed because Tom and Dorothy Heers have transformed this location into one of the crown jewels of St George.</span></span>
LOCATION:Cliffside Restaurant 511 S. Airport Drive St. George
UID:e.1117.5266
SEQUENCE:3
DTSTAMP:20260421T112346Z
URL:https://business.stgeorgechamber.com/events/details/meet-the-chamber-at-cliffside-restaurant-05-28-2014-5266
END:VEVENT

END:VCALENDAR
