BEGIN:VCALENDAR
VERSION:2.0
PRODID:-//ChamberMaster//Event Calendar 2.0//EN
METHOD:PUBLISH
X-PUBLISHED-TTL:P3D
REFRESH-INTERVAL:P3D
CALSCALE:GREGORIAN
BEGIN:VEVENT
DTSTART:20160323T170000Z
DTEND:20160323T190000Z
X-MICROSOFT-CDO-ALLDAYEVENT:FALSE
SUMMARY:Meet the Chamber at Brigham's Playhouse
DESCRIPTION:Join us for free lunch and networking from 11am-1pm provided by Brigham's Playhouse!\n\nBrigham's Playhouse believes in the power of live theatre and its ability to provide audiences and performing artists with life-changing experiences.  Brigham's Playhouse will accomplish this objective by:\n\n1) Providing family audiences with excellent\, affordable\, Broadway-caliber\, wholesome and edifying theatre.\n\n2) Providing a work environment and life-style for performing artists that is: based on high moral and ethical values\; conducive to inspiration from heavenly sources\; and able to allow time with families and for community/church service.\n\n3) Promoting performing arts through a diverse education program that will develop creative & expressive artists and be founded on professional technique\, family values\, and principles of ethical living.\n\n4) Creating and producing original shows containing theatre\, music\, and/or dance that promote happy family living\, encourage principle centered living\, and/or motivate the audience to build a better world.
X-ALT-DESC;FMTTYPE=text/html:<span style="color:#000000\;"><span style="font-family:arial\;"><span style="font-size: 14px\; line-height: 22.4px\;">Join us for free lunch and networking from&nbsp\;</span>11am-1pm<span style="font-size: 14px\; line-height: 22.4px\;">&nbsp\;provided by Brigham&#39\;s Playhouse!</span><br />\n<span style="font-size:14px\;">Brigham&#39\;s Playhouse believes in the power of live theatre and its ability to provide audiences and performing artists with life-changing experiences.&nbsp\; Brigham&#39\;s Playhouse will accomplish this objective by:<br />\n1) Providing family audiences with excellent\, affordable\, Broadway-caliber\, wholesome and edifying theatre.<br />\n2) Providing a work environment and life-style for performing artists that is: based on high moral and ethical values\; conducive to inspiration from heavenly sources\; and able to allow time with families and for community/church service.<br />\n3) Promoting performing arts through a diverse education program that will develop creative &amp\; expressive artists and be founded on professional technique\, family values\, and principles of ethical living.<br />\n4) Creating and producing original shows containing theatre\, music\, and/or dance that promote happy family living\, encourage principle centered living\, and/or motivate the audience to build a better world.</span></span></span>
LOCATION:Brigham's Playhouse 25 N. 300 W. Bldg. C
UID:e.1117.8471
SEQUENCE:3
DTSTAMP:20260419T220039Z
URL:https://business.stgeorgechamber.com/events/details/meet-the-chamber-at-brigham-s-playhouse-03-23-2016-8471
END:VEVENT

END:VCALENDAR
