BEGIN:VCALENDAR
VERSION:2.0
PRODID:-//ChamberMaster//Event Calendar 2.0//EN
METHOD:PUBLISH
X-PUBLISHED-TTL:P3D
REFRESH-INTERVAL:P3D
CALSCALE:GREGORIAN
BEGIN:VEVENT
DTSTART:20150923T170000Z
DTEND:20150923T190000Z
X-MICROSOFT-CDO-ALLDAYEVENT:FALSE
SUMMARY:Meet the Chamber at Beehive Cottages
DESCRIPTION:BeeHive Cottages is a safe\, refreshing senior care community designed for those who are more independent and do not require the level of care provided by Assisted Living facilities.   Residents enjoy specially designed homes that include attached garages\, porches\, and pet friendly yards.   Many personal support services are provided including a 24 hr. call system\, transportation\, organized activities\, nutritious meals\, housekeeping and lots of social interaction.  "Yes\, I can do this!" is what many enthusiastically exclaim after comparing Beehive Cottages with other senior care options.
X-ALT-DESC;FMTTYPE=text/html:<span style="color:#000000\;"><span style="font-size:14px\;"><span style="font-family:arial\;">BeeHive Cottages is a safe\, refreshing senior care community designed for those who are more independent and do not require the level of care provided by Assisted Living facilities. &nbsp\; Residents enjoy specially designed homes that include attached garages\, porches\, and pet friendly yards. &nbsp\; Many personal support services are provided including a 24 hr. call system\, transportation\, organized activities\, nutritious meals\, housekeeping and lots of social interaction. &nbsp\;&ldquo\;Yes\, I can do this!&rdquo\; is what many enthusiastically exclaim after comparing Beehive Cottages with other senior care options.</span></span></span>
LOCATION:Beehive Cottages 2041 S. Mesa Palms Drive St. George
UID:e.1117.7078
SEQUENCE:3
DTSTAMP:20260420T101247Z
URL:https://business.stgeorgechamber.com/events/details/meet-the-chamber-at-beehive-cottages-09-23-2015-7078
END:VEVENT

END:VCALENDAR
