BEGIN:VCALENDAR
VERSION:2.0
PRODID:-//ChamberMaster//Event Calendar 2.0//EN
METHOD:PUBLISH
X-PUBLISHED-TTL:P3D
REFRESH-INTERVAL:P3D
CALSCALE:GREGORIAN
BEGIN:VEVENT
DTSTART:20140423T170000Z
DTEND:20140423T190000Z
X-MICROSOFT-CDO-ALLDAYEVENT:FALSE
SUMMARY:Meet the Chamber at Ancestor Square with the Downtown Farmers Market
DESCRIPTION:Come out and enjoy the perfect springtime weather with us next week as we "Meet the Chamber" at the Downtown Farmers Market at Ancestor Square. Delicious lunch entrees will be provided free of charge by George's Corner Restaurant. Come out and get to know some of our local companies at the Farmers Market. Red Acre farm will be there with seasonal produce\, eggs and other fresh products. T & J Foods is a local sauce company. There will be ceramics\, lotions\, felted bags\, hand made cards\, wood turned bowls\, and all sorts of other locally made and grown products that you would expect at a farmers market.\n\n  \n\nThere will also be live music\, perfect weather\, a lot of people to network with and a good time to be had by all. This is a free event that you will not want to miss! Come out and bring your friends!
X-ALT-DESC;FMTTYPE=text/html:<div align="left" style="margin-left: 30px\; font-size: 10pt\;">\n<div style="margin-left: 30px\; font-size: 10pt\; text-align: left\;"><span style="font-size:14px\;"><span style="font-family:arial\;">Come out and enjoy the perfect springtime weather with us next week as we &quot\;Meet the Chamber&quot\; at the Downtown Farmers Market at Ancestor Square. Delicious lunch entrees will be provided free of charge by George&#39\;s Corner Restaurant. Come out and get to know some of our local companies at the Farmers Market. Red Acre farm will be there with seasonal produce\, eggs and other fresh products. T &amp\; J Foods is a local sauce company. There will be ceramics\, lotions\, felted bags\, hand made cards\, wood turned bowls\, and all sorts of other locally made and grown products that you would expect at a farmers market.</span></span></div>\n\n<div style="margin-left: 30px\; font-size: 10pt\; text-align: left\;"><span style="font-size:14px\;"><span style="font-family:arial\;">&nbsp\;&nbsp\;</span></span></div>\n\n<div style="margin-left: 30px\; font-size: 10pt\; text-align: left\;"><span style="font-size:14px\;"><span style="font-family:arial\;">There will also be live music\, perfect weather\, a lot of people to network with and a good time to be had by all. This is a free event that you will not want to miss! Come out and bring your friends!&nbsp\;</span></span></div>\n</div>\n
LOCATION:Downtown Farmers Market Ancestor Square
UID:e.1117.5205
SEQUENCE:3
DTSTAMP:20260421T112746Z
URL:https://business.stgeorgechamber.com/events/details/meet-the-chamber-at-ancestor-square-with-the-downtown-farmers-market-04-23-2014-5205
END:VEVENT

END:VCALENDAR
