BEGIN:VCALENDAR
VERSION:2.0
PRODID:-//ChamberMaster//Event Calendar 2.0//EN
METHOD:PUBLISH
X-PUBLISHED-TTL:P3D
REFRESH-INTERVAL:P3D
CALSCALE:GREGORIAN
BEGIN:VEVENT
DTSTART:20140625T170000Z
DTEND:20140625T190000Z
X-MICROSOFT-CDO-ALLDAYEVENT:FALSE
SUMMARY:Meet the Chamber
DESCRIPTION:Legendary Food\, Legendary Service \, and Legendary Fun! At Texas Roadhouse\, they take pride in everything they do from hand-cut steaks and fall-off-the-bone ribs\, to some pretty sweet margaritas. And they do it all with one goal   to give your family a place to go for great food and good times at a fantastic price.\n\n\n\nTexas Roadhouse will be exclusively opening their restaurant for today's Meet the Chamber luncheon and invites you to join them!
X-ALT-DESC;FMTTYPE=text/html:<p>Legendary Food\, Legendary Service<sup>&reg\;</sup>\, and Legendary Fun! At Texas Roadhouse\, they take pride in everything they do from hand-cut steaks and fall-off-the-bone ribs\, to some pretty sweet margaritas. And they do it all with one goal &mdash\; to give your family a place to go for great food and good times at a fantastic price.<br />\n<br />\nTexas Roadhouse will be exclusively opening their restaurant for today&#39\;s Meet the Chamber luncheon and invites you to join them!</p>\n
LOCATION:Texas Roadhouse 2654 East Red Cliffs Drive\, Bldg. 2 St. George\, UT
UID:e.1117.5302
SEQUENCE:3
DTSTAMP:20260421T083139Z
URL:https://business.stgeorgechamber.com/events/details/meet-the-chamber-06-25-2014-5302
END:VEVENT

END:VCALENDAR
