BEGIN:VCALENDAR
VERSION:2.0
PRODID:-//ChamberMaster//Event Calendar 2.0//EN
METHOD:PUBLISH
X-PUBLISHED-TTL:P3D
REFRESH-INTERVAL:P3D
CALSCALE:GREGORIAN
BEGIN:VEVENT
DTSTART:20140326T170000Z
DTEND:20140326T190000Z
X-MICROSOFT-CDO-ALLDAYEVENT:FALSE
SUMMARY:Meet the Chamber
DESCRIPTION:Come and taste the delectable cuisine of this legendary Ledges restaurant.  You'll get to savor some of their most popular dishes for which the Fish Rock Grille is known.  And it's FREE to you as Chamber members!   Not only that\, but the owners of The Ledges will be there to pass out discounts for future visits to the restaurant and a few free passes to their legendary Ledges Golf Course.  It's an event you won't want to miss.\n\n \n\nThe Dixie Sunshiners will be staging a ribbon cutting at 11:45AM to welcome the Ledges as one of our newest Chamber members.  It's a great Chamber tradition you'll all enjoy. Speaking of enjoying\, you'll also love to visiting their golf club to check out all it has to offer.  Not to worry\, we won't tell if you decide to play hooky and drive a few balls while you're there.\n\n \n\nLunch is served from 11AM till 1:00PM.  The ribbon cutting is at 11:45AM.  The Fish Rock Grille is one of St George's most appealing fine dinning destinations.  Their beautifully appointed dining room with it's stunning location overlooking sweeping vistas of Snow Canyon will make you glad you came.
X-ALT-DESC;FMTTYPE=text/html:<p><span style="font-size:14px\;">Come and taste the delectable cuisine of this legendary Ledges restaurant.&nbsp\; You&rsquo\;ll get to savor some of their most popular dishes for which the Fish Rock Grille is known. &nbsp\;And it&rsquo\;s FREE to you as Chamber members!&nbsp\;&nbsp\; Not only that\, but the owners of The Ledges will be there to pass out discounts for future visits to the restaurant and a few free passes to their legendary Ledges Golf Course.&nbsp\; It&rsquo\;s an event you won&rsquo\;t want to miss.<br />\n&nbsp\;<br />\nThe Dixie Sunshiners will be staging a ribbon cutting at 11:45AM to welcome the Ledges as one of our newest Chamber members.&nbsp\; It&rsquo\;s a great Chamber tradition you&rsquo\;ll all enjoy. Speaking of enjoying\, you&rsquo\;ll also love to visiting their golf club to check out all it has to offer.&nbsp\; Not to worry\, we won&rsquo\;t tell if you decide to play hooky and drive a few balls while you&rsquo\;re there.<br />\n&nbsp\;<br />\nLunch is served from 11AM till 1:00PM.&nbsp\; The ribbon cutting is at 11:45AM.&nbsp\; The Fish Rock Grille is one of St George&rsquo\;s most appealing fine dinning destinations.&nbsp\; Their beautifully appointed dining room with it&rsquo\;s stunning location overlooking sweeping vistas of Snow Canyon will make you glad you came. </span></p>\n
LOCATION:Fish Rock Grille The Ledges Golf Course 1585 Ledges Parkway (just off Hwy 18 going west toward Veyo)
UID:e.1117.5114
SEQUENCE:3
DTSTAMP:20260421T141122Z
URL:https://business.stgeorgechamber.com/events/details/meet-the-chamber-03-26-2014-5114
END:VEVENT

END:VCALENDAR
