BEGIN:VCALENDAR
VERSION:2.0
PRODID:-//ChamberMaster//Event Calendar 2.0//EN
METHOD:PUBLISH
X-PUBLISHED-TTL:P3D
REFRESH-INTERVAL:P3D
CALSCALE:GREGORIAN
BEGIN:VEVENT
DTSTART:20140226T180000Z
DTEND:20140226T200000Z
X-MICROSOFT-CDO-ALLDAYEVENT:FALSE
SUMMARY:Meet the Chamber
DESCRIPTION:
X-ALT-DESC;FMTTYPE=text/html:
LOCATION:Brigham's Playhouse 25 N. 300 W. Bldg. C
UID:e.1117.5077
SEQUENCE:3
DTSTAMP:20260421T142407Z
URL:https://business.stgeorgechamber.com/events/details/meet-the-chamber-02-26-2014-5077
END:VEVENT

END:VCALENDAR
