BEGIN:VCALENDAR
VERSION:2.0
PRODID:-//ChamberMaster//Event Calendar 2.0//EN
METHOD:PUBLISH
X-PUBLISHED-TTL:P3D
REFRESH-INTERVAL:P3D
CALSCALE:GREGORIAN
BEGIN:VEVENT
DTSTART:20160624T010000Z
DTEND:20160624T020000Z
X-MICROSOFT-CDO-ALLDAYEVENT:FALSE
SUMMARY:Meet & Greet - Steve Kemp
DESCRIPTION:Come meet Steve Kemp\, Republican candidate for District 75 in the Utah House of Representatives. Listen to Steve Kemp talk about important Washington County issues. Come ask Steve questions to issues that are important to you and find out where he stands: what he is for and what he is against and how he can represent you in the House. Bring your spouse\, your neighbors and your friends. Enjoy some refreshments and get to know your neighbors and Steve.
X-ALT-DESC;FMTTYPE=text/html:Come meet Steve Kemp\, Republican candidate for District 75 in the Utah House of Representatives. Listen to Steve Kemp talk about important Washington County issues. Come ask Steve questions to issues that are important to you and find out where he stands: what he is for and what he is against and how he can represent you in the House. Bring your spouse\, your neighbors and your friends. Enjoy some refreshments and get to know your neighbors and Steve.
LOCATION:Business Resource Center 1071 East 100 South\, Building C\, Second Floor\, Large Classroom
UID:e.1117.8985
SEQUENCE:3
DTSTAMP:20260419T165122Z
URL:https://business.stgeorgechamber.com/events/details/meet-greet-steve-kemp-06-23-2016-8985
END:VEVENT

END:VCALENDAR
