BEGIN:VCALENDAR
VERSION:2.0
PRODID:-//ChamberMaster//Event Calendar 2.0//EN
METHOD:PUBLISH
X-PUBLISHED-TTL:P3D
REFRESH-INTERVAL:P3D
CALSCALE:GREGORIAN
BEGIN:VEVENT
DTSTART:20151003T130000Z
DTEND:20151003T140000Z
X-MICROSOFT-CDO-ALLDAYEVENT:FALSE
SUMMARY:Mayor's Walk
DESCRIPTION:Be one of the 1\,200 participants in the exciting St. George Marathon experience as we walk to the St. George Marathon finish line with Mayor Jon Pike\, friends and family! The Mayor's Walk begins on Saturday promptly at 7:00 a.m. at Sand Town Park (please arrive early)\, and follows Diagonal Street to Main Street to 300 South\, ending at the finish line at Vernon Worthen Park (350 E 300 S). Walkers must finish by 8:00 am to ensure an open course for the Marathon's Wheelchair Division.\n\nThe proceeds from the Mayor's Walk go to support Exchange Club projects including SUPAF (Southern Utah Performing Arts Festival)\, Freedom Shrines in our schools and public facilities\, Child Abuse Prevention programs\, Student of the Month Scholarships and Exchange Club programs that benefit local youth\, including the new All Abilities Park.\n\nYou may register online or at our EXPO booth on Friday October 2nd from 9:00 am to Noon.\n\nMayor's Walk Post-Event Buses will return you from Vernon Worthen Park to Sand Town Park from 8:30 am to 10:30 am.
X-ALT-DESC;FMTTYPE=text/html:Be one of the 1\,200 participants in the exciting St. George Marathon experience as we walk to the St. George Marathon finish line with Mayor Jon Pike\, friends and family! The Mayor&rsquo\;s Walk begins on Saturday promptly at 7:00 a.m. at Sand Town Park (please arrive early)\, and follows Diagonal Street to Main Street to 300 South\, ending at the finish line at Vernon Worthen Park (350 E 300 S). Walkers must finish by 8:00 am to ensure an open course for the Marathon&rsquo\;s Wheelchair Division.<br />\nThe proceeds from the Mayor&rsquo\;s Walk go to support Exchange Club projects including SUPAF (Southern Utah Performing Arts Festival)\, Freedom Shrines in our schools and public facilities\, Child Abuse Prevention programs\, Student of the Month Scholarships and Exchange Club programs that benefit local youth\, including the new All Abilities Park.<br />\nYou may register online or at our EXPO booth on Friday October 2nd from 9:00 am to Noon.<br />\nMayor&rsquo\;s Walk Post-Event Buses will return you from Vernon Worthen Park to Sand Town Park from 8:30 am to 10:30 am.<br />\n&nbsp\;
LOCATION:Walk begins at 7:00 a.m. at Bluff Street Park located at 700 North Bluff Street\, and follows Diagonal Street to Main Street to 300 South\, ending at the finish line at Vernon Worthen Park\, 350 East 300 South. Walkers must finish by 8:00 a.m. to ensure an open course for the Wheelchair Division.
UID:e.1117.7099
SEQUENCE:3
DTSTAMP:20260420T064854Z
URL:https://business.stgeorgechamber.com/events/details/mayor-s-walk-10-03-2015-7099
END:VEVENT

END:VCALENDAR
