BEGIN:VCALENDAR
VERSION:2.0
PRODID:-//ChamberMaster//Event Calendar 2.0//EN
METHOD:PUBLISH
X-PUBLISHED-TTL:P3D
REFRESH-INTERVAL:P3D
CALSCALE:GREGORIAN
BEGIN:VEVENT
DTSTART:20130706T133000Z
DTEND:20130706T163000Z
X-MICROSOFT-CDO-ALLDAYEVENT:FALSE
SUMMARY:Mayor's Pancake Breakfast with Sheriff Cory Pulsipher and Brian Pulsipher
DESCRIPTION:Help our local Air Force JR. ROTC program cadets with their challenge of fundraising for their programs!! The Core VIP\, Fear Not Foundation\, Sheriff Cory and Brian Pulsipher\, and the Cities of St. George and Hurricane invite you to a pancake breakfast in the park! Have fun\, eat well for a good cause!
X-ALT-DESC;FMTTYPE=text/html:Help our local Air Force JR. ROTC program cadets with their challenge of fundraising for their programs!! The Core VIP\, Fear Not Foundation\, Sheriff Cory and Brian Pulsipher\, and the Cities of St. George and Hurricane invite you to a pancake breakfast in the park! Have fun\, eat well for a good cause! 
LOCATION:Vernon Worthen Park\, 300 S\, 400 E St. George UT
UID:e.1117.4176
SEQUENCE:3
DTSTAMP:20260422T011202Z
URL:https://business.stgeorgechamber.com/events/details/mayor-s-pancake-breakfast-with-sheriff-cory-pulsipher-and-brian-pulsipher-07-06-2013-4176
END:VEVENT

END:VCALENDAR
