BEGIN:VCALENDAR
VERSION:2.0
PRODID:-//ChamberMaster//Event Calendar 2.0//EN
METHOD:PUBLISH
X-PUBLISHED-TTL:P3D
REFRESH-INTERVAL:P3D
CALSCALE:GREGORIAN
BEGIN:VEVENT
DTSTART:20130929T003000Z
DTEND:20130929T040000Z
X-MICROSOFT-CDO-ALLDAYEVENT:FALSE
SUMMARY:Matthew West Concert
DESCRIPTION:The "Into the Light" Tour with Christian singing bands Matthew West\, Sidewalk Prophets and American Idol Contestant\, Jason Castro will be at the Dixie State University's Cox Auditorium\, Saturday\, September 28 @ 6:30.  Proceeds go to benefit HOPE Pregnancy Care Center.  Tickets & information are at the Cox Auditorium box office or online at intothelightconcert.com
X-ALT-DESC;FMTTYPE=text/html:The &quot\;Into the Light&quot\; Tour with Christian singing bands Matthew West\, Sidewalk Prophets and American Idol Contestant\, Jason Castro will be at the Dixie State University&#39\;s Cox Auditorium\, Saturday\, September 28 @ 6:30.&nbsp\; Proceeds go to benefit HOPE Pregnancy Care Center.&nbsp\; Tickets &amp\; information are at the Cox Auditorium box office or online at intothelightconcert.com 
LOCATION:Dixie State University Cox Auditorium
UID:e.1117.4253
SEQUENCE:3
DTSTAMP:20260421T232805Z
URL:https://business.stgeorgechamber.com/events/details/matthew-west-concert-09-28-2013-4253
END:VEVENT

END:VCALENDAR
