BEGIN:VCALENDAR
VERSION:2.0
PRODID:-//ChamberMaster//Event Calendar 2.0//EN
METHOD:PUBLISH
X-PUBLISHED-TTL:P3D
REFRESH-INTERVAL:P3D
CALSCALE:GREGORIAN
BEGIN:VEVENT
DTSTART:20141205T180000Z
DTEND:20150101T010000Z
X-MICROSOFT-CDO-ALLDAYEVENT:FALSE
SUMMARY:Matthew James Jacobson Gallery Show
DESCRIPTION:Matthew James Jacobson Ever the black sheep\, Matthew lives in a Southwestern world but focuses on pop-centric art. Despite being surrounded by desert and desert art\, Matthew continues to paint oil and acrylic portraits with a pop flair. When he's not putting paint to canvas\, you can find Matthew reading comic books\, watching movies and running marathons ? in a full-length Batman cape. Matthew also writes two columns for The Spectrum. One\, "Is My Geek Showing?\," focuses on pop culture\, while the other\, "Couch Critic\," is a review of new Blu-ray releases. You can read them in The Spectrum's weekend entertainment section\, Where It's @\, and occasionally in USA Today. Follow Matthew on Facebook at Facebook.com/MatthewJacobsonGeek\, and on Twitter\, @MatthewJGeek.
X-ALT-DESC;FMTTYPE=text/html:Matthew James Jacobson Ever the black sheep\, Matthew lives in a Southwestern world but focuses on pop-centric art. Despite being surrounded by desert and desert art\, Matthew continues to paint oil and acrylic portraits with a pop flair. When he&#39\;s not putting paint to canvas\, you can find Matthew reading comic books\, watching movies and running marathons ? in a full-length Batman cape. Matthew also writes two columns for The Spectrum. One\, &quot\;Is My Geek Showing?\,&quot\; focuses on pop culture\, while the other\, &quot\;Couch Critic\,&quot\; is a review of new Blu-ray releases. You can read them in The Spectrum&#39\;s weekend entertainment section\, Where It&#39\;s @\, and occasionally in USA Today. Follow Matthew on Facebook at Facebook.com/MatthewJacobsonGeek\, and on Twitter\, @MatthewJGeek.
LOCATION:The DiFiore Center
UID:e.1117.6215
SEQUENCE:3
DTSTAMP:20260420T234851Z
URL:https://business.stgeorgechamber.com/events/details/matthew-james-jacobson-gallery-show-12-05-2014-6215
END:VEVENT

END:VCALENDAR
