BEGIN:VCALENDAR
VERSION:2.0
PRODID:-//ChamberMaster//Event Calendar 2.0//EN
METHOD:PUBLISH
X-PUBLISHED-TTL:P3D
REFRESH-INTERVAL:P3D
CALSCALE:GREGORIAN
BEGIN:VEVENT
DTSTART:20130716T024500Z
DTEND:20130716T050000Z
X-MICROSOFT-CDO-ALLDAYEVENT:FALSE
SUMMARY:Mary Poppins
DESCRIPTION:Mary Poppins is a Walt Disney Theatrical musical based on the similarly titled series of children's books by P. L. Travers and the 1964 Disney film. The musical features the film's music and lyrics by the Academy Award winning Sherman Brothers\, along with additional music and lyrics by George Stiles and Anthony Drewe that blend in beautifully with the original musical numbers.\n\n \n\nThe stage musical is a fusion of various elements from the film and the books. The practically perfect Mary Poppins arrives to nanny the Banks children and\, with some help from the chimney-sweep\, Bert\, ends up turning the family's world upside down.\n\n \n\nGet ready to experience this truly magical and beloved tale in a thrilling new way as only Tuacahn can do it!
X-ALT-DESC;FMTTYPE=text/html:<span style="font-size: medium\;"><span style="font-family: calibri\;">Mary Poppins is a Walt Disney Theatrical musical based on the similarly titled series of children&#39\;s books by P. L. Travers and the 1964 Disney film. The musical features the film&#39\;s music and lyrics by the Academy Award winning Sherman Brothers\, along with additional music and lyrics by George Stiles and Anthony Drewe that blend in beautifully with the original musical numbers.</span></span><br />\n&nbsp\;<br />\n<span style="font-size: medium\;"><span style="font-family: calibri\;">The stage musical is a fusion of various elements from the film and the books. The practically perfect Mary Poppins arrives to nanny the Banks children and\, with some help from the chimney-sweep\, Bert\, ends up turning the family&#39\;s world upside down.</span></span><br />\n&nbsp\;<br />\n<span style="font-size: medium\;"><span style="font-family: calibri\;">Get ready to experience this truly magical and beloved tale in a thrilling new way as only Tuacahn can do it!</span></span>
LOCATION:Tuacahn Amphitheatre 1100 Tuacahn Drive Ivins\, UT
UID:e.1117.3392
SEQUENCE:3
DTSTAMP:20260422T023514Z
URL:https://business.stgeorgechamber.com/events/details/mary-poppins-07-15-2013-3392
END:VEVENT

END:VCALENDAR
