BEGIN:VCALENDAR
VERSION:2.0
PRODID:-//ChamberMaster//Event Calendar 2.0//EN
METHOD:PUBLISH
X-PUBLISHED-TTL:P3D
REFRESH-INTERVAL:P3D
CALSCALE:GREGORIAN
BEGIN:VEVENT
DTSTART:20150429T010000Z
DTEND:20150606T180000Z
X-MICROSOFT-CDO-ALLDAYEVENT:FALSE
SUMMARY:Mary Poppins
DESCRIPTION:Mary Poppins The practically perfect musical is opening at Brigham's Playhouse! All young Jane and Michael Banks wanted was a nanny who would play games and love them\; in flies the infamous Mary Poppins. Brimming with all the classic feature you know and love\, the award-winning stage musical is simply supercalifragilisticexpialidocious! Opening April 28th and running through June 6th\, this timeless classic is sure to win over everyone and with special pricing for families\, you can't go wrong! The Brigham's Playhouse experience is complete with mouth-watering confections\, Brigham's Brew Root Beer\, and our famous fudge and fresh baked cookies\, not to mention a fabulous live orchestra and Broadway-caliber talent in the best seats Southern Utah has to offer. Don't miss your chance to see this sensational show as tickets are sure to go fast!
X-ALT-DESC;FMTTYPE=text/html:Mary Poppins The practically perfect musical is opening at Brigham&#39\;s Playhouse! All young Jane and Michael Banks wanted was a nanny who would play games and love them\; in flies the infamous Mary Poppins. Brimming with all the classic feature you know and love\, the award-winning stage musical is simply supercalifragilisticexpialidocious! Opening April 28th and running through June 6th\, this timeless classic is sure to win over everyone and with special pricing for families\, you can&#39\;t go wrong! The Brigham&#39\;s Playhouse experience is complete with mouth-watering confections\, Brigham&#39\;s Brew Root Beer\, and our famous fudge and fresh baked cookies\, not to mention a fabulous live orchestra and Broadway-caliber talent in the best seats Southern Utah has to offer. Don&#39\;t miss your chance to see this sensational show as tickets are sure to go fast!
LOCATION:Brigham's Playhouse 25 North 300 West Washington\, UT
UID:e.1117.6434
SEQUENCE:3
DTSTAMP:20260420T133054Z
URL:https://business.stgeorgechamber.com/events/details/mary-poppins-04-28-2015-6434
END:VEVENT

END:VCALENDAR
