BEGIN:VCALENDAR
VERSION:2.0
PRODID:-//ChamberMaster//Event Calendar 2.0//EN
METHOD:PUBLISH
X-PUBLISHED-TTL:P3D
REFRESH-INTERVAL:P3D
CALSCALE:GREGORIAN
BEGIN:VEVENT
DTSTART:20130427T143000Z
DTEND:20130427T173000Z
X-MICROSOFT-CDO-ALLDAYEVENT:FALSE
SUMMARY:March for Babies St. George 2013
DESCRIPTION:It's America's favorite walking event! When you walk\, you give hope to the babies born too soon or sick. The money you raise supports programs in your community that help moms have healthy\, full-term pregnancies\, and it funds research to find answers to the serious problems that threaten our babies. We've been walking since 1970 and have raised an incredible $2.6 billion! Join the more than 7 million people who participate\, donate and/or sponsor. There are plenty of opportunities for day-of-event exposure\, activation and education - not to mention opportunities to meet hundreds of others who are just like you!                 \nIt's America's favorite walking event! When you walk\, you give hope to the babies born too soon or sick. The money you raise supports programs in your co\n                 \nIt's America's favorite walking event! When you walk\, you give hope to the b\n                   -->
X-ALT-DESC;FMTTYPE=text/html:It&#39\;s America&#39\;s favorite walking event! When you walk\, you give hope to the babies born too soon or sick. The money you raise supports programs in your community that help moms have healthy\, full-term pregnancies\, and it funds research to find answers to the serious problems that threaten our babies. We&#39\;ve been walking since 1970 and have raised an incredible $2.6 billion! Join the more than 7 million people who participate\, donate and/or sponsor. There are plenty of opportunities for day-of-event exposure\, activation and education - not to mention opportunities to meet hundreds of others who are just like you!&nbsp\;&nbsp\;&nbsp\;&nbsp\;&nbsp\;&nbsp\;&nbsp\;&nbsp\;&nbsp\;&nbsp\;&nbsp\;&nbsp\;&nbsp\;&nbsp\;&nbsp\;&nbsp\; <!-- Event description truncated to 155\, 78 chars for display on events landing page\, etc.\n                 <event-description>\nIt's America's favorite walking event! When you walk\, you give hope to the babies born too soon or sick. The money you raise supports programs in your co</event-description>\n                 <event-descriptionShort>\nIt's America's favorite walking event! When you walk\, you give hope to the b</event-descriptionShort>\n                   -->
LOCATION:Washington City Community Center -Multipurpose Room 350 N. Community Center Drive Washington City\, UT 84780
UID:e.1117.2567
SEQUENCE:3
DTSTAMP:20260422T060529Z
URL:https://business.stgeorgechamber.com/events/details/march-for-babies-st-george-2013-04-27-2013-2567
END:VEVENT

END:VCALENDAR
