BEGIN:VCALENDAR
VERSION:2.0
PRODID:-//ChamberMaster//Event Calendar 2.0//EN
METHOD:PUBLISH
X-PUBLISHED-TTL:P3D
REFRESH-INTERVAL:P3D
CALSCALE:GREGORIAN
BEGIN:VEVENT
DTSTART:20150227T023000Z
DTEND:20150308T043000Z
X-MICROSOFT-CDO-ALLDAYEVENT:FALSE
SUMMARY:MAN OF LA MANCHA THE MUSICAL
DESCRIPTION:Man of La Mancha the Musical\, February 26-28\, March 3-7\, Rated PG Eccles Mainstage\, Directed by Mark Houser In Association with Tams-Whitmark Library\, Inc Written by Dale Wasserman\, Music by Mitch Leigh\, Lyrics by Joe Darion Man of La Mancha is a remarkable show and one of the great theatre successes of our time. This is a play-within-a-play\, based on Cervantes? ?Don Quixote.? We have a poignant story of a dying old man whose impossible dream takes over his mind. It?s All the Same\, Dulcinea\, I?m Only Thinking of Him\, The Impossible Dream\, I Really Like Him and Little Bird remain in your thoughts and in your soul well after you see the show. His dream is Everyman?s dream. His tilting at windmills is Everyman?s great adventure. Somehow\, the footlights disappear\, time is telescoped and the ?Man of La Mancha? speaks for humankind. (www.tamswhitmark.com)
X-ALT-DESC;FMTTYPE=text/html:Man of La Mancha the Musical\, February 26-28\, March 3-7\, Rated PG Eccles Mainstage\, Directed by Mark Houser In Association with Tams-Whitmark Library\, Inc Written by Dale Wasserman\, Music by Mitch Leigh\, Lyrics by Joe Darion Man of La Mancha is a remarkable show and one of the great theatre successes of our time. This is a play-within-a-play\, based on Cervantes? ?Don Quixote.? We have a poignant story of a dying old man whose impossible dream takes over his mind. It?s All the Same\, Dulcinea\, I?m Only Thinking of Him\, The Impossible Dream\, I Really Like Him and Little Bird remain in your thoughts and in your soul well after you see the show. His dream is Everyman?s dream. His tilting at windmills is Everyman?s great adventure. Somehow\, the footlights disappear\, time is telescoped and the ?Man of La Mancha? speaks for humankind. (www.tamswhitmark.com)
LOCATION:Eccles Mainstage Corner of 700 East and 100 South\, on the DSU campus
UID:e.1117.6170
SEQUENCE:3
DTSTAMP:20260420T191228Z
URL:https://business.stgeorgechamber.com/events/details/man-of-la-mancha-the-musical-02-26-2015-6170
END:VEVENT

END:VCALENDAR
