BEGIN:VCALENDAR
VERSION:2.0
PRODID:-//ChamberMaster//Event Calendar 2.0//EN
METHOD:PUBLISH
X-PUBLISHED-TTL:P3D
REFRESH-INTERVAL:P3D
CALSCALE:GREGORIAN
BEGIN:VEVENT
DTSTART:20141011T000000Z
DTEND:20141011T030000Z
X-MICROSOFT-CDO-ALLDAYEVENT:FALSE
SUMMARY:Mad Hatter Party
DESCRIPTION:What would Halloween be without a little madness? Join the DiFiore Center\, 307 N. Main St. in St. George\, for their second annual Mad Hatter's Party\, Oct. 10 at the DiFiore Center. All are invited to attend this maddest of October celebrations and wear their craziest and most creative hat. A hat clinic will take place one hour before the event for anyone needing help assembling the perfect mad hat. Enjoy monster bingo\, hat creations\, palm reading\, tarot card reading\, live music and dancing\, photo opportunities and a hat contest with prizes to be awarded. There will also be food and treats. The event will take place from 6-9\;00 p.m. Admission to the Mad Hatter's Party is free\, but donations are accepted. The DiFiore Center is located at 307 N. Main St. in St. George. For more details about the Mad Hatter's Ball and for info about the DiFiore Center\, which is a nonprofit artistic resource promoting students of all ages\, visit www.difiorecenter.org\, e-mail difiorecenter@gmail.com or call (435) 673-4206.
X-ALT-DESC;FMTTYPE=text/html:What would Halloween be without a little madness? Join the DiFiore Center\, 307 N. Main St. in St. George\, for their second annual Mad Hatter&#39\;s Party\, Oct. 10 at the DiFiore Center. All are invited to attend this maddest of October celebrations and wear their craziest and most creative hat. A hat clinic will take place one hour before the event for anyone needing help assembling the perfect mad hat. Enjoy monster bingo\, hat creations\, palm reading\, tarot card reading\, live music and dancing\, photo opportunities and a hat contest with prizes to be awarded. There will also be food and treats. The event will take place from 6-9\;00 p.m. Admission to the Mad Hatter&#39\;s Party is free\, but donations are accepted. The DiFiore Center is located at 307 N. Main St. in St. George. For more details about the Mad Hatter&#39\;s Ball and for info about the DiFiore Center\, which is a nonprofit artistic resource promoting students of all ages\, visit www.difiorecenter.org\, e-mail difiorecenter@gmail.com or call (435) 673-4206.
LOCATION:The DiFiore Center
UID:e.1117.6100
SEQUENCE:3
DTSTAMP:20260421T025638Z
URL:https://business.stgeorgechamber.com/events/details/mad-hatter-party-10-10-2014-6100
END:VEVENT

END:VCALENDAR
