BEGIN:VCALENDAR
VERSION:2.0
PRODID:-//ChamberMaster//Event Calendar 2.0//EN
METHOD:PUBLISH
X-PUBLISHED-TTL:P3D
REFRESH-INTERVAL:P3D
CALSCALE:GREGORIAN
BEGIN:VEVENT
DTSTART;VALUE=DATE:20140320
DTEND;VALUE=DATE:20140321
TRANSP:TRANSPARENT
X-MICROSOFT-CDO-ALLDAYEVENT:TRUE
SUMMARY:Love UT Give UT
DESCRIPTION:A one day state wide giving to charitable organizations!!  Please support your local non-profit organizations by donating online at www.loveutgiveut.org.  Also check out the incentives being offered throughout the day.
X-ALT-DESC;FMTTYPE=text/html:A one day state wide giving to charitable organizations!!&nbsp\; Please support your local non-profit organizations by donating online at www.loveutgiveut.org.&nbsp\; Also check out the incentives being offered throughout the day.
LOCATION:N/A
UID:e.1117.5129
SEQUENCE:3
DTSTAMP:20260421T125543Z
URL:https://business.stgeorgechamber.com/events/details/love-ut-give-ut-03-20-2014-5129
END:VEVENT

END:VCALENDAR
