BEGIN:VCALENDAR
VERSION:2.0
PRODID:-//ChamberMaster//Event Calendar 2.0//EN
METHOD:PUBLISH
X-PUBLISHED-TTL:P3D
REFRESH-INTERVAL:P3D
CALSCALE:GREGORIAN
BEGIN:VEVENT
DTSTART:20150926T180000Z
DTEND:20150927T030000Z
X-MICROSOFT-CDO-ALLDAYEVENT:FALSE
SUMMARY:Looking Upward Community Event
DESCRIPTION:This free community event is for the entire family. There will be concerts\, food\, and bounce houses for the kids\, activities for the entire family and community non-profit displays.  The daylong event will be anchored by worship concerts throughout the day. There will be a Spanish Worship Band at 1 PM\, Young Adult Worship Band at 3 PM\, and Calvary Chapel Worship Band at 5 PM.  Christian recording artists The Museum will perform at 7 PM.\n\nThere will be free hot dogs from Noon to 4 PM.  At 4 pm there will be a Food Trucks Corner to provide various cuisines for the dinner hour for purchase. The Bounce Houses will be up for the kids from Noon to 5 PM.  In between concerts\, there will be displays and demonstrations from various community organizations like: ambulance\, fire\, life flight\, Incident Command & National Guard. Non-profit organizations such as the Dove Center\, HOPE\, Utah Food Bank\, Switchpoint and local churches will be invited to have displays highlighting their organizations.\n\nThe event will benefit the Utah Food Bank\, so while the event is FREE\, we will be encouraging people to bring donations of food or monies will be given to the Utah Food Bank.  Our vision is to make this an annual\, uplifting\, family friendly event that will highlight the many great organizations and churches in the area.
X-ALT-DESC;FMTTYPE=text/html:<p style="box-sizing: border-box\; margin: 0px 0px 1.1em\; padding: 0px\; border: 0px\; font-size: 19.35px\; line-height: 32.895px\; font-family: Lato\, sans-serif\; color: rgb(68\, 68\, 68)\;">This&nbsp\;<b style="box-sizing: border-box\;"><i style="box-sizing: border-box\; margin-bottom: 0px\;">free</i></b>&nbsp\;community event is for the entire family. There will be concerts\, food\, and bounce houses for the kids\, activities for the entire family and community non-profit displays.&nbsp\; The daylong event will be anchored by worship concerts throughout the day. There will be a Spanish Worship Band at 1 PM\, Young Adult Worship Band at 3 PM\, and Calvary Chapel Worship Band at 5 PM.&nbsp\; Christian recording artists&nbsp\;<b style="box-sizing: border-box\; margin-bottom: 0px\;">The Museum</b>&nbsp\;will perform at 7 PM.</p>\n\n<p style="box-sizing: border-box\; margin: 0px 0px 1.1em\; padding: 0px\; border: 0px\; font-size: 19.35px\; line-height: 32.895px\; font-family: Lato\, sans-serif\; color: rgb(68\, 68\, 68)\;">There will be free hot dogs from Noon to 4 PM.&nbsp\; At 4 pm there will be a Food Trucks Corner&nbsp\;to provide various cuisines for the dinner hour for purchase. The Bounce Houses will be up for the kids from Noon to 5 PM.&nbsp\; In between concerts\, there will be displays and demonstrations from various community organizations like: ambulance\, fire\, life flight\, Incident Command &amp\; National Guard. Non-profit organizations such as the Dove Center\, HOPE\, Utah Food Bank\, Switchpoint and local churches will be invited to have displays highlighting their organizations.</p>\n\n<p style="box-sizing: border-box\; margin: 0px 0px 1.1em\; padding: 0px\; border: 0px\; font-size: 19.35px\; line-height: 32.895px\; font-family: Lato\, sans-serif\; color: rgb(68\, 68\, 68)\;">The event will benefit the Utah Food Bank\, so while the event is FREE\, we will be encouraging people to bring donations of food or monies will be given to the Utah Food Bank.&nbsp\; Our vision is to make this an annual\, uplifting\, family friendly event that will highlight the many great organizations and churches in the area.</p>\n
LOCATION:Vernon Worthen Park
UID:e.1117.7050
SEQUENCE:3
DTSTAMP:20260420T084634Z
URL:https://business.stgeorgechamber.com/events/details/looking-upward-community-event-09-26-2015-7050
END:VEVENT

END:VCALENDAR
