BEGIN:VCALENDAR
VERSION:2.0
PRODID:-//ChamberMaster//Event Calendar 2.0//EN
METHOD:PUBLISH
X-PUBLISHED-TTL:P3D
REFRESH-INTERVAL:P3D
CALSCALE:GREGORIAN
BEGIN:VEVENT
DTSTART:20131217T180000Z
DTEND:20131217T190000Z
X-MICROSOFT-CDO-ALLDAYEVENT:FALSE
SUMMARY:LiVe Well Learning Hub Lecture
DESCRIPTION:Join the LiVe Well Learning Hub as they present their weekly lecture!  Today's lecture will feature Karen Schlieter\, from the LiVe Well Center\, who will be presenting on "5 Key Steps to Reducing Fall Risk."
X-ALT-DESC;FMTTYPE=text/html:Join the LiVe Well Learning Hub as they present their weekly lecture! &nbsp\;Today&#39\;s lecture will feature Karen Schlieter\, from the&nbsp\;LiVe Well Center\, who will be presenting on &quot\;5 Key Steps to Reducing Fall Risk.&quot\;
LOCATION:652 S. Medical Center Drive First Level
UID:e.1117.4973
SEQUENCE:3
DTSTAMP:20260421T181658Z
URL:https://business.stgeorgechamber.com/events/details/live-well-learning-hub-lecture-12-17-2013-4973
END:VEVENT

END:VCALENDAR
