BEGIN:VCALENDAR
VERSION:2.0
PRODID:-//ChamberMaster//Event Calendar 2.0//EN
METHOD:PUBLISH
X-PUBLISHED-TTL:P3D
REFRESH-INTERVAL:P3D
CALSCALE:GREGORIAN
BEGIN:VEVENT
DTSTART:20141009T170000Z
DTEND:20141009T180000Z
X-MICROSOFT-CDO-ALLDAYEVENT:FALSE
SUMMARY:LiVe Well Learning Hub Lecture
DESCRIPTION:Join the LiVe Well Learning Hub as they present their weekly lecture!  Today's lecture will feature Amber Anderson\, with the Intermountain Psychiatry & Counseling\, who will be presenting on "Relationship Rescue."  Light refreshments provided.
X-ALT-DESC;FMTTYPE=text/html:Join the LiVe Well Learning Hub as they present their weekly lecture! &nbsp\;Today&#39\;s lecture will feature Amber Anderson\, with the Intermountain Psychiatry &amp\; Counseling\, who will be presenting on &quot\;Relationship Rescue.&quot\; &nbsp\;Light refreshments provided.
LOCATION:652 S. Medical Center Drive First Level
UID:e.1117.6124
SEQUENCE:3
DTSTAMP:20260421T025614Z
URL:https://business.stgeorgechamber.com/events/details/live-well-learning-hub-lecture-10-09-2014-6124
END:VEVENT

END:VCALENDAR
