BEGIN:VCALENDAR
VERSION:2.0
PRODID:-//ChamberMaster//Event Calendar 2.0//EN
METHOD:PUBLISH
X-PUBLISHED-TTL:P3D
REFRESH-INTERVAL:P3D
CALSCALE:GREGORIAN
BEGIN:VEVENT
DTSTART:20150326T170000Z
DTEND:20150326T183000Z
X-MICROSOFT-CDO-ALLDAYEVENT:FALSE
SUMMARY:LiVe Well Learning Hub Lecture
DESCRIPTION:Join the LiVe Well Learning Hub as they present their weekly lecture!\n\n\n\nToday's lecture will feature Marjorie Atkinson\, RN\, M2Consulting\, who will be presenting on "How Doctors Think:  How Your Doc Was Trained Makes Your Diagnosis and Care Plan."  Light refreshments provided.
X-ALT-DESC;FMTTYPE=text/html:Join the LiVe Well Learning Hub as they present their weekly lecture!<br />\n<br />\nToday&#39\;s lecture will feature Marjorie Atkinson\, RN\, M2Consulting\, who will be presenting on &quot\;How Doctors Think: &nbsp\;How Your Doc Was Trained Makes Your Diagnosis and Care Plan.&quot\; &nbsp\;Light refreshments provided.
LOCATION:652 S. Medical Center Drive First Level
UID:e.1117.6327
SEQUENCE:3
DTSTAMP:20260420T190521Z
URL:https://business.stgeorgechamber.com/events/details/live-well-learning-hub-lecture-03-26-2015-6327
END:VEVENT

END:VCALENDAR
