BEGIN:VCALENDAR
VERSION:2.0
PRODID:-//ChamberMaster//Event Calendar 2.0//EN
METHOD:PUBLISH
X-PUBLISHED-TTL:P3D
REFRESH-INTERVAL:P3D
CALSCALE:GREGORIAN
BEGIN:VEVENT
DTSTART:20150319T170000Z
DTEND:20150319T183000Z
X-MICROSOFT-CDO-ALLDAYEVENT:FALSE
SUMMARY:LiVe Well Learning Hub Lecture
DESCRIPTION:Join the LiVe Well Learning Hub as they present their weekly lecture!  Today's lecture will feature Anita Stiens\, RN\, Alzheimer's Association\, who will be presenting on "Younger Onset Dementia:  When Alzheimer's or other dementia comes out in the 40s\, 50s and early 60s--part 2."  Light refreshments provided.
X-ALT-DESC;FMTTYPE=text/html:Join the LiVe Well Learning Hub as they present their weekly lecture! &nbsp\;Today&#39\;s lecture will feature Anita Stiens\, RN\, Alzheimer&#39\;s Association\, who will be presenting on &quot\;Younger Onset Dementia: &nbsp\;When Alzheimer&#39\;s or other dementia comes out in the 40s\, 50s and early 60s--part 2.&quot\; &nbsp\;Light refreshments provided.
LOCATION:652 S. Medical Center Drive First Level
UID:e.1117.6326
SEQUENCE:3
DTSTAMP:20260420T190555Z
URL:https://business.stgeorgechamber.com/events/details/live-well-learning-hub-lecture-03-19-2015-6326
END:VEVENT

END:VCALENDAR
