BEGIN:VCALENDAR
VERSION:2.0
PRODID:-//ChamberMaster//Event Calendar 2.0//EN
METHOD:PUBLISH
X-PUBLISHED-TTL:P3D
REFRESH-INTERVAL:P3D
CALSCALE:GREGORIAN
BEGIN:VEVENT
DTSTART:20160316T170000Z
DTEND:20160316T183000Z
X-MICROSOFT-CDO-ALLDAYEVENT:FALSE
SUMMARY:LiVe Well Learning Hub Lecture
DESCRIPTION:Join the LiVe Well Learning Hub as they present their weekly lecture!\n\n\n\nToday's lecture will feature Anita Steins\, "Understanding and Responding to Dementia Behaviors."  Light refreshments provided.
X-ALT-DESC;FMTTYPE=text/html:Join the LiVe Well Learning Hub as they present their weekly lecture!<br />\n<br />\nToday&#39\;s lecture will feature Anita Steins\, &quot\;Understanding and Responding to Dementia Behaviors.&quot\;&nbsp\; Light refreshments provided.
LOCATION:652 S. Medical Center Drive First Level
UID:e.1117.8484
SEQUENCE:3
DTSTAMP:20260419T233302Z
URL:https://business.stgeorgechamber.com/events/details/live-well-learning-hub-lecture-03-16-2016-8484
END:VEVENT

END:VCALENDAR
