BEGIN:VCALENDAR
VERSION:2.0
PRODID:-//ChamberMaster//Event Calendar 2.0//EN
METHOD:PUBLISH
X-PUBLISHED-TTL:P3D
REFRESH-INTERVAL:P3D
CALSCALE:GREGORIAN
BEGIN:VEVENT
DTSTART:20130518T150000Z
DTEND:20130518T190000Z
X-MICROSOFT-CDO-ALLDAYEVENT:FALSE
SUMMARY:LiVe Well Kids Expo
DESCRIPTION:Celebrate being a kid at the 2013 LiVe Well Kids Expo presented by 99.9 KONY Country and the LiVe Well Center of St. George. Happening at the St. George Town Square come for FREE and enjoy bounce houses\, the FunnyFace Photobooth\, live entertainment\, obstacle courses\, finger printing kits\, Home Depot kid building workshops and more! The Live Well Kids Expo\, Saturday\, May 18th!\n\n	ACTIVITIES:\n\n	\n		LiVe Well Center Obstacle Course Focusing on the FUNdamentals program\n	\n		Free Bounce Houses\n	\n		Washington County Sheriff's Office Take home Finger Printing Kits\n	\n		Southwest Utah Public Health Department-Car Seat Safety demonstrations\n	\n		Home Depot Kid Workshops "How to build a bird house"\n	\n		FunnyFace Photo Booth ($1 per person)\n	\n		10:30am Live performance from Singers Company\, an all-girl youth singing group.\n	\n		SGPD Mountain Bike Patrol Obstacle Course\n\n\n	The purpose of this event is to promote health and wellness education for children in the Southern Utah area by creating an interactive fair-style carnival. The LiVe Well Kids Expo offers families fun and educational activities\, including an unique obstacle course to help challenge and encourage kids' athletic abilities.
X-ALT-DESC;FMTTYPE=text/html:<p style="color: rgb(0\, 0\, 0)\; font-family: Arial\, Helvetica\, sans-serif\;">\n	Celebrate being a kid at the 2013 LiVe Well Kids Expo presented by 99.9 KONY Country and the LiVe Well Center of St. George. Happening at the St. George Town Square come for FREE and enjoy bounce houses\, the FunnyFace Photobooth\, live entertainment\, obstacle courses\, finger printing kits\, Home Depot kid building workshops and more! The Live Well Kids Expo\, Saturday\, May 18th!</p>\n<h2 style="font-weight: normal\; font-size: 18pt\; font-family: verdana\, arial\; margin: 0px\; color: rgb(0\, 0\, 0)\;">\n	ACTIVITIES:</h2>\n<ul style="color: rgb(0\, 0\, 0)\; font-family: Arial\, Helvetica\, sans-serif\; text-align: -webkit-center\;">\n	<li style="text-align: left\;">\n		LiVe Well Center Obstacle Course&mdash\;Focusing on the FUNdamentals program</li>\n	<li style="text-align: left\;">\n		Free Bounce Houses</li>\n	<li style="text-align: left\;">\n		Washington County Sheriff&rsquo\;s Office&mdash\;Take home Finger Printing Kits</li>\n	<li style="text-align: left\;">\n		Southwest Utah Public Health Department-Car Seat Safety demonstrations</li>\n	<li style="text-align: left\;">\n		Home Depot Kid Workshops&mdash\;&rdquo\;How to build a bird house&rdquo\;</li>\n	<li style="text-align: left\;">\n		FunnyFace Photo Booth ($1 per person)</li>\n	<li style="text-align: left\;">\n		10:30am&mdash\;Live performance from Singers Company\, an all-girl youth singing group.</li>\n	<li style="text-align: left\;">\n		SGPD&mdash\;Mountain Bike Patrol Obstacle Course</li>\n</ul>\n<h2 style="font-weight: normal\; font-size: 18pt\; font-family: verdana\, arial\; margin: 0px\; color: rgb(0\, 0\, 0)\;">\n	<span style="font-family: Arial\, Helvetica\, sans-serif\; font-size: 12px\;">The purpose of this event is to promote health and wellness education for children in the Southern Utah area by creating an interactive fair-style carnival. The </span>LiVe<span style="font-family: Arial\, Helvetica\, sans-serif\; font-size: 12px\;"> Well Kids Expo offers families fun and educational activities\, including an unique obstacle course to help challenge and encourage kids&rsquo\; athletic abilities.</span></h2>\n
LOCATION:St. George Town Square
UID:e.1117.2959
SEQUENCE:3
DTSTAMP:20260422T041715Z
URL:https://business.stgeorgechamber.com/events/details/live-well-kids-expo-05-18-2013-2959
END:VEVENT

END:VCALENDAR
