BEGIN:VCALENDAR
VERSION:2.0
PRODID:-//ChamberMaster//Event Calendar 2.0//EN
METHOD:PUBLISH
X-PUBLISHED-TTL:P3D
REFRESH-INTERVAL:P3D
CALSCALE:GREGORIAN
BEGIN:VEVENT
DTSTART:20151017T140000Z
DTEND:20151017T190000Z
X-MICROSOFT-CDO-ALLDAYEVENT:FALSE
SUMMARY:LiVe Well Health Fair 2015
DESCRIPTION:Dixie Regional Medical Center (at the Health & Performance Center) will be hosting LiVe Well Health Fair on Oct. 17. Dixie's event kicks off with Miss Utah Krissia Beatty cutting the ribbon at the hospital's new labyrinth (near the southwest corner of the hospital) at 8 a.m. It ends at 1 p.m. \n\nThe SW Public Health Department will be administering flu shots at both fairs. Flu shots are $20 cash/credit ($25 for nasal spray version). The cost is also billable with proof of qualifying insurance (including Medicare). The fairs each also offer more than 15 additional health-screening opportunities to attendees. \n\n"There is no admission charge for entrance to the health fair\; although a screening or two have a small fee to cover the cost of testing\," said Bailey McMurdie-Parker\, event coordinator at Dixie Regional Medical Center. "The health fair is an opportunity for families and individuals alike to discover more about their health and have access to screenings they otherwise might not."\n\nMany family friendly services are part of the health fairs including the opportunity to be fitted with a free bike helmet while supplies last\, enjoy the LiVe Well Bike Rodeo (Dixie-only -- bring your own bike) and other games and activities.\n\nA variety of screenings and assessments will be administered by professionals include body composition analysis\, blood glucose testing\, painful joint screening (including arthritis)\, nutritional counseling\, osteoporosis education\, dizziness testing\, and hearing testing. Exercise physiologists\, athletic trainers\, dietitians\, eye doctors and many other health professionals will be on-site to answer questions.\n\nAt Dixie's fair\, to help keep lines down the day of the events\, the $25 fee for the cholesterol test may be paid by cash\, check or credit at the hospitals cashier's office now at the River Road campus on weekdays during regular business hours. Those receiving this test should fast for eight hours prior.\n\n"These LiVe Well Health Fairs would not be possible without the dedicated professionals\, many of whom volunteer their time to provide screenings\," McMurdie-Parker. "These good people dedicate their time and talents and we're excited the community can benefit from their service."
X-ALT-DESC;FMTTYPE=text/html:<p><span style="color:#000000\;"><span style="font-size:14px\;"><span style="font-family:arial\;">Dixie Regional Medical Center (at the Health &amp\; Performance Center) will be hosting LiVe Well Health Fair on Oct. 17. Dixie&rsquo\;s event kicks off with Miss Utah Krissia Beatty cutting the ribbon at the hospital&rsquo\;s new labyrinth (near the southwest corner of the hospital) at 8 a.m. It ends at 1 p.m.&nbsp\;<br />\nThe SW Public Health Department will be administering flu shots at both fairs. Flu shots are $20 cash/credit ($25 for nasal spray version). The cost is also billable with proof of qualifying insurance (including Medicare). The fairs each also offer more than 15 additional health-screening opportunities to attendees.&nbsp\;<br />\n&ldquo\;There is no admission charge for entrance to the health fair\; although a screening or two have a small fee to cover the cost of testing\,&rdquo\; said Bailey McMurdie-Parker\, event coordinator at Dixie Regional Medical Center. &ldquo\;The health fair is an opportunity for families and individuals alike to discover more about their health and have access to screenings they otherwise might not.&rdquo\;<br />\nMany family friendly services are part of the health fairs including the opportunity to be fitted with a free bike helmet while supplies last\, enjoy the LiVe Well Bike Rodeo (Dixie-only -- bring your own bike) and other games and activities.<br />\nA variety of screenings and assessments will be administered by professionals include body composition analysis\, blood glucose testing\, painful joint screening (including arthritis)\, nutritional counseling\, osteoporosis education\, dizziness testing\, and hearing testing. Exercise physiologists\, athletic trainers\, dietitians\, eye doctors and many other health professionals will be on-site to answer questions.<br />\nAt Dixie&rsquo\;s fair\, to help keep lines down the day of the events\, the $25 fee for the cholesterol test may be paid by cash\, check or credit at the hospitals cashier&rsquo\;s office now at the River Road campus on weekdays during regular business hours. Those receiving this test should fast for eight hours prior.<br />\n&ldquo\;These LiVe Well Health Fairs would not be possible without the dedicated professionals\, many of whom volunteer their time to provide screenings\,&rdquo\; McMurdie-Parker. &ldquo\;These good people dedicate their time and talents and we&rsquo\;re excited the community can benefit from their service.&rdquo\; </span></span></span></p>\n
LOCATION:Dixie Regional Health & Performance Center 652 S. Medical Center Drive St. George
UID:e.1117.7230
SEQUENCE:3
DTSTAMP:20260420T065426Z
URL:https://business.stgeorgechamber.com/events/details/live-well-health-fair-2015-10-17-2015-7230
END:VEVENT

END:VCALENDAR
